Workbook

Sheet Eleves
A1: NOM | B1: PRENOM | C1: NAISSANCE | D1: DIV | E1: Caractéristique | F1: SALLE | G1: CODE | H1: MATHSdeb | I1: MATHSfin | J1: FR1deb | K1: FR1fin | L1: FR2deb | M1: FR2fin | N1: HGdeb | O1: HGfin | P1: SCIdeb | Q1: SCIfin
A2: ABED | B2: Cyrielle | C2: 23/07/2008 | D2: 37 | E2: Série pro | F2: ='TEMP salles'!F2 -> A09 | G2: ='TEMP codes'!B2 -> 284 | H2: =INDEX(Horaires!$A$1:$K$4,MATCH($E2,Horaires!$A:$A,0),COLUMN()-6) -> 13h30 | I2: =INDEX(Horaires!$A$1:$K$4,MATCH($E2,Horaires!$A:$A,0),COLUMN()-6) -> 16h10 | J2: =INDEX(Horaires!$A$1:$K$4,MATCH($E2,Horaires!$A:$A,0),COLUMN()-6) -> 8h15 | K2: =INDEX(Horaires!$A$1:$K$4,MATCH($E2,Horaires!$A:$A,0),COLUMN()-6) -> 10h15 | L2: =INDEX(Horaires!$A$1:$K$4,MATCH($E2,Horaires!$A:$A,0),COLUMN()-6) -> 10h35 | M2: =INDEX(Horaires!$A$1:$K$4,MATCH($E2,Horaires!$A:$A,0),COLUMN()-6) -> 12h35 | N2: =INDEX(Horaires!$A$1:$K$4,MATCH($E2,Horaires!$A:$A,0),COLUMN()-6) -> 9h15 | O2: =INDEX(Horaires!$A$1:$K$4,MATCH($E2,Horaires!$A:$A,0),COLUMN()-6) -> 11h55 | ... Q2: =INDEX(Horaires!$A$1:$K$4,MATCH($E2,Horaires!$A:$A,0),COLUMN()-6) -> 14h50
A3: AVELLANEDA | B3: Ishaq | C3: 21/07/2009 | D3: 33 | E3: Série pro | F3: ='TEMP salles'!F3 -> A09 | G3: ='TEMP codes'!B3 -> 219 | H3: =INDEX(Horaires!$A$1:$K$4,MATCH($E3,Horaires!$A:$A,0),COLUMN()-6) -> 13h30 | I3: =INDEX(Horaires!$A$1:$K$4,MATCH($E3,Horaires!$A:$A,0),COLUMN()-6) -> 16h10 | J3: =INDEX(Horaires!$A$1:$K$4,MATCH($E3,Horaires!$A:$A,0),COLUMN()-6) -> 8h15 | K3: =INDEX(Horaires!$A$1:$K$4,MATCH($E3,Horaires!$A:$A,0),COLUMN()-6) -> 10h15 | L3: =INDEX(Horaires!$A$1:$K$4,MATCH($E3,Horaires!$A:$A,0),COLUMN()-6) -> 10h35 | M3: =INDEX(Horaires!$A$1:$K$4,MATCH($E3,Horaires!$A:$A,0),COLUMN()-6) -> 12h35 | N3: =INDEX(Horaires!$A$1:$K$4,MATCH($E3,Horaires!$A:$A,0),COLUMN()-6) -> 9h15 | O3: =INDEX(Horaires!$A$1:$K$4,MATCH($E3,Horaires!$A:$A,0),COLUMN()-6) -> 11h55 | ... Q3: =INDEX(Horaires!$A$1:$K$4,MATCH($E3,Horaires!$A:$A,0),COLUMN()-6) -> 14h50
A4: COIRIER | B4: Léona | C4: 06/12/2008 | D4: 36 | E4: Série pro | F4: ='TEMP salles'!F4 -> A09 | G4: ='TEMP codes'!B4 -> 125 | H4: =INDEX(Horaires!$A$1:$K$4,MATCH($E4,Horaires!$A:$A,0),COLUMN()-6) -> 13h30 | I4: =INDEX(Horaires!$A$1:$K$4,MATCH($E4,Horaires!$A:$A,0),COLUMN()-6) -> 16h10 | J4: =INDEX(Horaires!$A$1:$K$4,MATCH($E4,Horaires!$A:$A,0),COLUMN()-6) -> 8h15 | K4: =INDEX(Horaires!$A$1:$K$4,MATCH($E4,Horaires!$A:$A,0),COLUMN()-6) -> 10h15 | L4: =INDEX(Horaires!$A$1:$K$4,MATCH($E4,Horaires!$A:$A,0),COLUMN()-6) -> 10h35 | M4: =INDEX(Horaires!$A$1:$K$4,MATCH($E4,Horaires!$A:$A,0),COLUMN()-6) -> 12h35 | N4: =INDEX(Horaires!$A$1:$K$4,MATCH($E4,Horaires!$A:$A,0),COLUMN()-6) -> 9h15 | O4: =INDEX(Horaires!$A$1:$K$4,MATCH($E4,Horaires!$A:$A,0),COLUMN()-6) -> 11h55 | ... Q4: =INDEX(Horaires!$A$1:$K$4,MATCH($E4,Horaires!$A:$A,0),COLUMN()-6) -> 14h50
A5: DUARTE | B5: Loona | C5: 29/04/2009 | D5: 31 | E5: Série pro | F5: ='TEMP salles'!F5 -> A09 | G5: ='TEMP codes'!B5 -> 184 | H5: =INDEX(Horaires!$A$1:$K$4,MATCH($E5,Horaires!$A:$A,0),COLUMN()-6) -> 13h30 | I5: =INDEX(Horaires!$A$1:$K$4,MATCH($E5,Horaires!$A:$A,0),COLUMN()-6) -> 16h10 | J5: =INDEX(Horaires!$A$1:$K$4,MATCH($E5,Horaires!$A:$A,0),COLUMN()-6) -> 8h15 | K5: =INDEX(Horaires!$A$1:$K$4,MATCH($E5,Horaires!$A:$A,0),COLUMN()-6) -> 10h15 | L5: =INDEX(Horaires!$A$1:$K$4,MATCH($E5,Horaires!$A:$A,0),COLUMN()-6) -> 10h35 | M5: =INDEX(Horaires!$A$1:$K$4,MATCH($E5,Horaires!$A:$A,0),COLUMN()-6) -> 12h35 | N5: =INDEX(Horaires!$A$1:$K$4,MATCH($E5,Horaires!$A:$A,0),COLUMN()-6) -> 9h15 | O5: =INDEX(Horaires!$A$1:$K$4,MATCH($E5,Horaires!$A:$A,0),COLUMN()-6) -> 11h55 | ... Q5: =INDEX(Horaires!$A$1:$K$4,MATCH($E5,Horaires!$A:$A,0),COLUMN()-6) -> 14h50
A6: GAMBIER | B6: Noor | C6: 01/12/2009 | D6: 31 | E6: Série pro | F6: ='TEMP salles'!F6 -> A09 | G6: ='TEMP codes'!B6 -> 122 | H6: =INDEX(Horaires!$A$1:$K$4,MATCH($E6,Horaires!$A:$A,0),COLUMN()-6) -> 13h30 | I6: =INDEX(Horaires!$A$1:$K$4,MATCH($E6,Horaires!$A:$A,0),COLUMN()-6) -> 16h10 | J6: =INDEX(Horaires!$A$1:$K$4,MATCH($E6,Horaires!$A:$A,0),COLUMN()-6) -> 8h15 | K6: =INDEX(Horaires!$A$1:$K$4,MATCH($E6,Horaires!$A:$A,0),COLUMN()-6) -> 10h15 | L6: =INDEX(Horaires!$A$1:$K$4,MATCH($E6,Horaires!$A:$A,0),COLUMN()-6) -> 10h35 | M6: =INDEX(Horaires!$A$1:$K$4,MATCH($E6,Horaires!$A:$A,0),COLUMN()-6) -> 12h35 | N6: =INDEX(Horaires!$A$1:$K$4,MATCH($E6,Horaires!$A:$A,0),COLUMN()-6) -> 9h15 | O6: =INDEX(Horaires!$A$1:$K$4,MATCH($E6,Horaires!$A:$A,0),COLUMN()-6) -> 11h55 | ... Q6: =INDEX(Horaires!$A$1:$K$4,MATCH($E6,Horaires!$A:$A,0),COLUMN()-6) -> 14h50
A7: GIORDAN | B7: Jana | C7: 08/11/2008 | D7: 34 | E7: Série pro | F7: ='TEMP salles'!F7 -> A09 | G7: ='TEMP codes'!B7 -> 161 | H7: =INDEX(Horaires!$A$1:$K$4,MATCH($E7,Horaires!$A:$A,0),COLUMN()-6) -> 13h30 | I7: =INDEX(Horaires!$A$1:$K$4,MATCH($E7,Horaires!$A:$A,0),COLUMN()-6) -> 16h10 | J7: =INDEX(Horaires!$A$1:$K$4,MATCH($E7,Horaires!$A:$A,0),COLUMN()-6) -> 8h15 | K7: =INDEX(Horaires!$A$1:$K$4,MATCH($E7,Horaires!$A:$A,0),COLUMN()-6) -> 10h15 | L7: =INDEX(Horaires!$A$1:$K$4,MATCH($E7,Horaires!$A:$A,0),COLUMN()-6) -> 10h35 | M7: =INDEX(Horaires!$A$1:$K$4,MATCH($E7,Horaires!$A:$A,0),COLUMN()-6) -> 12h35 | N7: =INDEX(Horaires!$A$1:$K$4,MATCH($E7,Horaires!$A:$A,0),COLUMN()-6) -> 9h15 | O7: =INDEX(Horaires!$A$1:$K$4,MATCH($E7,Horaires!$A:$A,0),COLUMN()-6) -> 11h55 | ... Q7: =INDEX(Horaires!$A$1:$K$4,MATCH($E7,Horaires!$A:$A,0),COLUMN()-6) -> 14h50
A8: GONCALVES | B8: Tobias | C8: 26/08/2009 | D8: 33 | E8: Série pro | F8: ='TEMP salles'!F8 -> A09 | G8: ='TEMP codes'!B8 -> 237 | H8: =INDEX(Horaires!$A$1:$K$4,MATCH($E8,Horaires!$A:$A,0),COLUMN()-6) -> 13h30 | I8: =INDEX(Horaires!$A$1:$K$4,MATCH($E8,Horaires!$A:$A,0),COLUMN()-6) -> 16h10 | J8: =INDEX(Horaires!$A$1:$K$4,MATCH($E8,Horaires!$A:$A,0),COLUMN()-6) -> 8h15 | K8: =INDEX(Horaires!$A$1:$K$4,MATCH($E8,Horaires!$A:$A,0),COLUMN()-6) -> 10h15 | L8: =INDEX(Horaires!$A$1:$K$4,MATCH($E8,Horaires!$A:$A,0),COLUMN()-6) -> 10h35 | M8: =INDEX(Horaires!$A$1:$K$4,MATCH($E8,Horaires!$A:$A,0),COLUMN()-6) -> 12h35 | N8: =INDEX(Horaires!$A$1:$K$4,MATCH($E8,Horaires!$A:$A,0),COLUMN()-6) -> 9h15 | O8: =INDEX(Horaires!$A$1:$K$4,MATCH($E8,Horaires!$A:$A,0),COLUMN()-6) -> 11h55 | ... Q8: =INDEX(Horaires!$A$1:$K$4,MATCH($E8,Horaires!$A:$A,0),COLUMN()-6) -> 14h50
A9: LACHAUD | B9: Maher | C9: 28/12/2008 | D9: 33 | E9: Série pro | F9: ='TEMP salles'!F9 -> A09 | G9: ='TEMP codes'!B9 -> 166 | H9: =INDEX(Horaires!$A$1:$K$4,MATCH($E9,Horaires!$A:$A,0),COLUMN()-6) -> 13h30 | I9: =INDEX(Horaires!$A$1:$K$4,MATCH($E9,Horaires!$A:$A,0),COLUMN()-6) -> 16h10 | J9: =INDEX(Horaires!$A$1:$K$4,MATCH($E9,Horaires!$A:$A,0),COLUMN()-6) -> 8h15 | K9: =INDEX(Horaires!$A$1:$K$4,MATCH($E9,Horaires!$A:$A,0),COLUMN()-6) -> 10h15 | L9: =INDEX(Horaires!$A$1:$K$4,MATCH($E9,Horaires!$A:$A,0),COLUMN()-6) -> 10h35 | M9: =INDEX(Horaires!$A$1:$K$4,MATCH($E9,Horaires!$A:$A,0),COLUMN()-6) -> 12h35 | N9: =INDEX(Horaires!$A$1:$K$4,MATCH($E9,Horaires!$A:$A,0),COLUMN()-6) -> 9h15 | O9: =INDEX(Horaires!$A$1:$K$4,MATCH($E9,Horaires!$A:$A,0),COLUMN()-6) -> 11h55 | ... Q9: =INDEX(Horaires!$A$1:$K$4,MATCH($E9,Horaires!$A:$A,0),COLUMN()-6) -> 14h50
A10: PETIN | B10: Jawad | C10: 02/06/2008 | D10: 35 | E10: Série pro | F10: ='TEMP salles'!F10 -> A09 | G10: ='TEMP codes'!B10 -> 114 | H10: =INDEX(Horaires!$A$1:$K$4,MATCH($E10,Horaires!$A:$A,0),COLUMN()-6) -> 13h30 | I10: =INDEX(Horaires!$A$1:$K$4,MATCH($E10,Horaires!$A:$A,0),COLUMN()-6) -> 16h10 | J10: =INDEX(Horaires!$A$1:$K$4,MATCH($E10,Horaires!$A:$A,0),COLUMN()-6) -> 8h15 | K10: =INDEX(Horaires!$A$1:$K$4,MATCH($E10,Horaires!$A:$A,0),COLUMN()-6) -> 10h15 | L10: =INDEX(Horaires!$A$1:$K$4,MATCH($E10,Horaires!$A:$A,0),COLUMN()-6) -> 10h35 | M10: =INDEX(Horaires!$A$1:$K$4,MATCH($E10,Horaires!$A:$A,0),COLUMN()-6) -> 12h35 | N10: =INDEX(Horaires!$A$1:$K$4,MATCH($E10,Horaires!$A:$A,0),COLUMN()-6) -> 9h15 | O10: =INDEX(Horaires!$A$1:$K$4,MATCH($E10,Horaires!$A:$A,0),COLUMN()-6) -> 11h55 | ... Q10: =INDEX(Horaires!$A$1:$K$4,MATCH($E10,Horaires!$A:$A,0),COLUMN()-6) -> 14h50
A11: RABAUD | B11: Ziyad | C11: 06/05/2008 | D11: 36 | E11: Série pro | F11: ='TEMP salles'!F11 -> A09 | G11: ='TEMP codes'!B11 -> 252 | H11: =INDEX(Horaires!$A$1:$K$4,MATCH($E11,Horaires!$A:$A,0),COLUMN()-6) -> 13h30 | I11: =INDEX(Horaires!$A$1:$K$4,MATCH($E11,Horaires!$A:$A,0),COLUMN()-6) -> 16h10 | J11: =INDEX(Horaires!$A$1:$K$4,MATCH($E11,Horaires!$A:$A,0),COLUMN()-6) -> 8h15 | K11: =INDEX(Horaires!$A$1:$K$4,MATCH($E11,Horaires!$A:$A,0),COLUMN()-6) -> 10h15 | L11: =INDEX(Horaires!$A$1:$K$4,MATCH($E11,Horaires!$A:$A,0),COLUMN()-6) -> 10h35 | M11: =INDEX(Horaires!$A$1:$K$4,MATCH($E11,Horaires!$A:$A,0),COLUMN()-6) -> 12h35 | N11: =INDEX(Horaires!$A$1:$K$4,MATCH($E11,Horaires!$A:$A,0),COLUMN()-6) -> 9h15 | O11: =INDEX(Horaires!$A$1:$K$4,MATCH($E11,Horaires!$A:$A,0),COLUMN()-6) -> 11h55 | ... Q11: =INDEX(Horaires!$A$1:$K$4,MATCH($E11,Horaires!$A:$A,0),COLUMN()-6) -> 14h50
A12: SAINTOT | B12: Yara | C12: 09/02/2009 | D12: 35 | E12: Série pro | F12: ='TEMP salles'!F12 -> A09 | G12: ='TEMP codes'!B12 -> 118 | H12: =INDEX(Horaires!$A$1:$K$4,MATCH($E12,Horaires!$A:$A,0),COLUMN()-6) -> 13h30 | I12: =INDEX(Horaires!$A$1:$K$4,MATCH($E12,Horaires!$A:$A,0),COLUMN()-6) -> 16h10 | J12: =INDEX(Horaires!$A$1:$K$4,MATCH($E12,Horaires!$A:$A,0),COLUMN()-6) -> 8h15 | K12: =INDEX(Horaires!$A$1:$K$4,MATCH($E12,Horaires!$A:$A,0),COLUMN()-6) -> 10h15 | L12: =INDEX(Horaires!$A$1:$K$4,MATCH($E12,Horaires!$A:$A,0),COLUMN()-6) -> 10h35 | M12: =INDEX(Horaires!$A$1:$K$4,MATCH($E12,Horaires!$A:$A,0),COLUMN()-6) -> 12h35 | N12: =INDEX(Horaires!$A$1:$K$4,MATCH($E12,Horaires!$A:$A,0),COLUMN()-6) -> 9h15 | O12: =INDEX(Horaires!$A$1:$K$4,MATCH($E12,Horaires!$A:$A,0),COLUMN()-6) -> 11h55 | ... Q12: =INDEX(Horaires!$A$1:$K$4,MATCH($E12,Horaires!$A:$A,0),COLUMN()-6) -> 14h50
A13: CHALAND | B13: Ugo | C13: 12/11/2008 | D13: 36 | E13: Tiers temps | F13: ='TEMP salles'!F13 -> A07 | G13: ='TEMP codes'!B13 -> 255 | H13: =INDEX(Horaires!$A$1:$K$4,MATCH($E13,Horaires!$A:$A,0),COLUMN()-6) -> 13h30 | I13: =INDEX(Horaires!$A$1:$K$4,MATCH($E13,Horaires!$A:$A,0),COLUMN()-6) -> 16h10 | J13: =INDEX(Horaires!$A$1:$K$4,MATCH($E13,Horaires!$A:$A,0),COLUMN()-6) -> 8h15 | K13: =INDEX(Horaires!$A$1:$K$4,MATCH($E13,Horaires!$A:$A,0),COLUMN()-6) -> 10h15 | L13: =INDEX(Horaires!$A$1:$K$4,MATCH($E13,Horaires!$A:$A,0),COLUMN()-6) -> 10h35 | M13: =INDEX(Horaires!$A$1:$K$4,MATCH($E13,Horaires!$A:$A,0),COLUMN()-6) -> 12h35 | N13: =INDEX(Horaires!$A$1:$K$4,MATCH($E13,Horaires!$A:$A,0),COLUMN()-6) -> 9h15 | O13: =INDEX(Horaires!$A$1:$K$4,MATCH($E13,Horaires!$A:$A,0),COLUMN()-6) -> 11h55 | ... Q13: =INDEX(Horaires!$A$1:$K$4,MATCH($E13,Horaires!$A:$A,0),COLUMN()-6) -> 14h50
... A191: ZEPHIR | B191: Loïc | C191: 15/05/2009 | D191: 34 | E191: Standard | F191: ='TEMP salles'!F191 -> B13 | G191: ='TEMP codes'!B191 -> 150 | H191: =INDEX(Horaires!$A$1:$K$4,MATCH($E191,Horaires!$A:$A,0),COLUMN()-6) -> 13h30 | I191: =INDEX(Horaires!$A$1:$K$4,MATCH($E191,Horaires!$A:$A,0),COLUMN()-6) -> 15h30 | J191: =INDEX(Horaires!$A$1:$K$4,MATCH($E191,Horaires!$A:$A,0),COLUMN()-6) -> 8h15 | K191: =INDEX(Horaires!$A$1:$K$4,MATCH($E191,Horaires!$A:$A,0),COLUMN()-6) -> 9h45 | L191: =INDEX(Horaires!$A$1:$K$4,MATCH($E191,Horaires!$A:$A,0),COLUMN()-6) -> 10h15 | M191: =INDEX(Horaires!$A$1:$K$4,MATCH($E191,Horaires!$A:$A,0),COLUMN()-6) -> 11h45 | N191: =INDEX(Horaires!$A$1:$K$4,MATCH($E191,Horaires!$A:$A,0),COLUMN()-6) -> 9h15 | O191: =INDEX(Horaires!$A$1:$K$4,MATCH($E191,Horaires!$A:$A,0),COLUMN()-6) -> 11h15 | ... Q191: =INDEX(Horaires!$A$1:$K$4,MATCH($E191,Horaires!$A:$A,0),COLUMN()-6) -> 14h30

Sheet Salles
A1: Salle | B1: Capacité | C1: Caractérisque | D1: Nb Elèves
A2: A104 | B2: 16 | C2: Standard | D2: =COUNTIF(Eleves!F:F,A2) -> 16 | F2: Compléter les salles utilisables et leur capacité.
A3: A106 | B3: 16 | C3: Standard | D3: =COUNTIF(Eleves!F:F,A3) -> 16 | F3: Indiquer les salles pour les élèves avec tiers temps.
A4: A108 | B4: 16 | C4: Standard | D4: =COUNTIF(Eleves!F:F,A4) -> 16 | F4: Ne pas toucher à la colonne D.
A5: A110 | B5: 16 | C5: Standard | D5: =COUNTIF(Eleves!F:F,A5) -> 16
A6: A112 | B6: 16 | C6: Standard | D6: =COUNTIF(Eleves!F:F,A6) -> 16
A7: B04 | B7: 16 | C7: Standard | D7: =COUNTIF(Eleves!F:F,A7) -> 16
A8: B08 | B8: 16 | C8: Standard | D8: =COUNTIF(Eleves!F:F,A8) -> 16
A9: B09 | B9: 16 | C9: Standard | D9: =COUNTIF(Eleves!F:F,A9) -> 16
A10: B10 | B10: 16 | C10: Standard | D10: =COUNTIF(Eleves!F:F,A10) -> 16
A11: B11 | B11: 16 | C11: Standard | D11: =COUNTIF(Eleves!F:F,A11) -> 16
A12: B13 | B12: 16 | C12: Standard | D12: =COUNTIF(Eleves!F:F,A12) -> 5
A13: A07 | B13: 13 | C13: Tiers temps | D13: =COUNTIF(Eleves!F:F,A13) -> 14
A14: A09 | B14: 13 | C14: Série pro | D14: =COUNTIF(Eleves!F:F,A14) -> 11

Sheet Horaires
A1: Caractéristique | B1: MATHSdeb | C1: MATHSfin | D1: FR1deb | E1: FR1fin | F1: FR2deb | G1: FR2fin | H1: HGdeb | I1: HGfin | J1: SCIdeb | K1: SCIfin
A2: Standard | B2: 13h30 | C2: 15h30 | D2: 8h15 | E2: 9h45 | F2: 10h15 | G2: 11h45 | H2: 9h15 | I2: 11h15 | J2: 13h30 | K2: 14h30
A3: Tiers temps | B3: 13h30 | C3: 16h10 | D3: 8h15 | E3: 10h15 | F3: 10h35 | G3: 12h35 | H3: 9h15 | I3: 11h55 | J3: 13h30 | K3: 14h50
A4: Série pro | B4: 13h30 | C4: 16h10 | D4: 8h15 | E4: 10h15 | F4: 10h35 | G4: 12h35 | H4: 9h15 | I4: 11h55 | J4: 13h30 | K4: 14h50
B6: Indiquer les horaires de début et de fin d’épreuve
C7: ligne 2 : pour les élèves qui n’ont pas de tiers temps
C8: ligne 3 : pour les élèves qui bénéficient de tiers temps

Sheet TEMP salles
A1: NOM | B1: PRENOM | C1: NAISSANCE | D1: DIV | E1: Caractéristique | F1: SALLE
A2: =Eleves!A2 -> ABED | B2: =Eleves!B2 -> Cyrielle | C2: =Eleves!C2 -> 23/07/2008 | D2: =Eleves!D2 -> 37 | E2: =Eleves!E2 -> Série pro | F2: A09
A3: =Eleves!A3 -> AVELLANEDA | B3: =Eleves!B3 -> Ishaq | C3: =Eleves!C3 -> 21/07/2009 | D3: =Eleves!D3 -> 33 | E3: =Eleves!E3 -> Série pro | F3: A09
A4: =Eleves!A4 -> COIRIER | B4: =Eleves!B4 -> Léona | C4: =Eleves!C4 -> 06/12/2008 | D4: =Eleves!D4 -> 36 | E4: =Eleves!E4 -> Série pro | F4: A09
A5: =Eleves!A5 -> DUARTE | B5: =Eleves!B5 -> Loona | C5: =Eleves!C5 -> 29/04/2009 | D5: =Eleves!D5 -> 31 | E5: =Eleves!E5 -> Série pro | F5: A09
A6: =Eleves!A6 -> GAMBIER | B6: =Eleves!B6 -> Noor | C6: =Eleves!C6 -> 01/12/2009 | D6: =Eleves!D6 -> 31 | E6: =Eleves!E6 -> Série pro | F6: A09
A7: =Eleves!A7 -> GIORDAN | B7: =Eleves!B7 -> Jana | C7: =Eleves!C7 -> 08/11/2008 | D7: =Eleves!D7 -> 34 | E7: =Eleves!E7 -> Série pro | F7: A09
A8: =Eleves!A8 -> GONCALVES | B8: =Eleves!B8 -> Tobias | C8: =Eleves!C8 -> 26/08/2009 | D8: =Eleves!D8 -> 33 | E8: =Eleves!E8 -> Série pro | F8: A09
A9: =Eleves!A9 -> LACHAUD | B9: =Eleves!B9 -> Maher | C9: =Eleves!C9 -> 28/12/2008 | D9: =Eleves!D9 -> 33 | E9: =Eleves!E9 -> Série pro | F9: A09
A10: =Eleves!A10 -> PETIN | B10: =Eleves!B10 -> Jawad | C10: =Eleves!C10 -> 02/06/2008 | D10: =Eleves!D10 -> 35 | E10: =Eleves!E10 -> Série pro | F10: A09
A11: =Eleves!A11 -> RABAUD | B11: =Eleves!B11 -> Ziyad | C11: =Eleves!C11 -> 06/05/2008 | D11: =Eleves!D11 -> 36 | E11: =Eleves!E11 -> Série pro | F11: A09
A12: =Eleves!A12 -> SAINTOT | B12: =Eleves!B12 -> Yara | C12: =Eleves!C12 -> 09/02/2009 | D12: =Eleves!D12 -> 35 | E12: =Eleves!E12 -> Série pro | F12: A09
A13: =Eleves!A13 -> CHALAND | B13: =Eleves!B13 -> Ugo | C13: =Eleves!C13 -> 12/11/2008 | D13: =Eleves!D13 -> 36 | E13: =Eleves!E13 -> Tiers temps | F13: A07
... A25: =Eleves!A25 -> SARRASIN | B25: =Eleves!B25 -> Mïa | C25: =Eleves!C25 -> 22/07/2009 | D25: =Eleves!D25 -> 31 | E25: =Eleves!E25 -> Tiers temps | F25: A07
A26: =Eleves!A26 -> TOURVILLE | B26: =Eleves!B26 -> Kamélia | C26: =Eleves!C26 -> 17/12/2009 | D26: =Eleves!D26 -> 31 | E26: =Eleves!E26 -> Tiers temps | F26: A07 | G26: nb él /salle | H26: pos salle | I26: capa salle | J26: salle suiv
A27: =Eleves!A27 -> ABAIDIA | B27: =Eleves!B27 -> Alix | C27: =Eleves!C27 -> 29/08/2009 | D27: =Eleves!D27 -> 32 | E27: =Eleves!E27 -> Standard | F27: A104 | G27: ⇐ Initialisation avec la première salle « standard »
A28: =Eleves!A28 -> ADJAL | B28: =Eleves!B28 -> Mike | C28: =Eleves!C28 -> 08/07/2009 | D28: =Eleves!D28 -> 36 | E28: =Eleves!E28 -> Standard | F28: =IF(G28<I28,F27,J28) -> A104 | G28: =COUNTIF($F$1:$F27,F27) -> 1 | H28: =MATCH(F27,Salles!$A$1:$A$500,0) -> 2 | I28: =INDEX(Salles!$A$1:$F$100,H28,2) -> 16 | J28: =INDEX(Salles!$A$1:$A$100,H28+1,1) -> A106
A29: =Eleves!A29 -> AILLERIE | B29: =Eleves!B29 -> Nahil | C29: =Eleves!C29 -> 09/03/2009 | D29: =Eleves!D29 -> 33 | E29: =Eleves!E29 -> Standard | F29: =IF(G29<I29,F28,J29) -> A104 | G29: =COUNTIF($F$1:$F28,F28) -> 2 | H29: =MATCH(F28,Salles!$A$1:$A$500,0) -> 2 | I29: =INDEX(Salles!$A$1:$F$100,H29,2) -> 16 | J29: =INDEX(Salles!$A$1:$A$100,H29+1,1) -> A106
A30: =Eleves!A30 -> AMICO | B30: =Eleves!B30 -> Grégoire | C30: =Eleves!C30 -> 26/05/2008 | D30: =Eleves!D30 -> 37 | E30: =Eleves!E30 -> Standard | F30: =IF(G30<I30,F29,J30) -> A104 | G30: =COUNTIF($F$1:$F29,F29) -> 3 | H30: =MATCH(F29,Salles!$A$1:$A$500,0) -> 2 | I30: =INDEX(Salles!$A$1:$F$100,H30,2) -> 16 | J30: =INDEX(Salles!$A$1:$A$100,H30+1,1) -> A106
A31: =Eleves!A31 -> AMIEL | B31: =Eleves!B31 -> Yaël | C31: =Eleves!C31 -> 07/01/2009 | D31: =Eleves!D31 -> 31 | E31: =Eleves!E31 -> Standard | F31: =IF(G31<I31,F30,J31) -> A104 | G31: =COUNTIF($F$1:$F30,F30) -> 4 | H31: =MATCH(F30,Salles!$A$1:$A$500,0) -> 2 | I31: =INDEX(Salles!$A$1:$F$100,H31,2) -> 16 | J31: =INDEX(Salles!$A$1:$A$100,H31+1,1) -> A106
A32: =Eleves!A32 -> ANANI | B32: =Eleves!B32 -> Sami | C32: =Eleves!C32 -> 15/01/2009 | D32: =Eleves!D32 -> 37 | E32: =Eleves!E32 -> Standard | F32: =IF(G32<I32,F31,J32) -> A104 | G32: =COUNTIF($F$1:$F31,F31) -> 5 | H32: =MATCH(F31,Salles!$A$1:$A$500,0) -> 2 | I32: =INDEX(Salles!$A$1:$F$100,H32,2) -> 16 | J32: =INDEX(Salles!$A$1:$A$100,H32+1,1) -> A106
A33: =Eleves!A33 -> ANNEROSE | B33: =Eleves!B33 -> Thalya | C33: =Eleves!C33 -> 02/12/2009 | D33: =Eleves!D33 -> 31 | E33: =Eleves!E33 -> Standard | F33: =IF(G33<I33,F32,J33) -> A104 | G33: =COUNTIF($F$1:$F32,F32) -> 6 | H33: =MATCH(F32,Salles!$A$1:$A$500,0) -> 2 | I33: =INDEX(Salles!$A$1:$F$100,H33,2) -> 16 | J33: =INDEX(Salles!$A$1:$A$100,H33+1,1) -> A106
A34: =Eleves!A34 -> ATTALAH | B34: =Eleves!B34 -> Isabelle | C34: =Eleves!C34 -> 29/12/2009 | D34: =Eleves!D34 -> 36 | E34: =Eleves!E34 -> Standard | F34: =IF(G34<I34,F33,J34) -> A104 | G34: =COUNTIF($F$1:$F33,F33) -> 7 | H34: =MATCH(F33,Salles!$A$1:$A$500,0) -> 2 | I34: =INDEX(Salles!$A$1:$F$100,H34,2) -> 16 | J34: =INDEX(Salles!$A$1:$A$100,H34+1,1) -> A106
A35: =Eleves!A35 -> AUBERGER | B35: =Eleves!B35 -> Gaspard | C35: =Eleves!C35 -> 05/02/2009 | D35: =Eleves!D35 -> 34 | E35: =Eleves!E35 -> Standard | F35: =IF(G35<I35,F34,J35) -> A104 | G35: =COUNTIF($F$1:$F34,F34) -> 8 | H35: =MATCH(F34,Salles!$A$1:$A$500,0) -> 2 | I35: =INDEX(Salles!$A$1:$F$100,H35,2) -> 16 | J35: =INDEX(Salles!$A$1:$A$100,H35+1,1) -> A106
A36: =Eleves!A36 -> AUBRUN | B36: =Eleves!B36 -> Louka | C36: =Eleves!C36 -> 23/05/2009 | D36: =Eleves!D36 -> 31 | E36: =Eleves!E36 -> Standard | F36: =IF(G36<I36,F35,J36) -> A104 | G36: =COUNTIF($F$1:$F35,F35) -> 9 | H36: =MATCH(F35,Salles!$A$1:$A$500,0) -> 2 | I36: =INDEX(Salles!$A$1:$F$100,H36,2) -> 16 | J36: =INDEX(Salles!$A$1:$A$100,H36+1,1) -> A106
A37: =Eleves!A37 -> AVIGNON | B37: =Eleves!B37 -> Angèle | C37: =Eleves!C37 -> 15/11/2009 | D37: =Eleves!D37 -> 34 | E37: =Eleves!E37 -> Standard | F37: =IF(G37<I37,F36,J37) -> A104 | G37: =COUNTIF($F$1:$F36,F36) -> 10 | H37: =MATCH(F36,Salles!$A$1:$A$500,0) -> 2 | I37: =INDEX(Salles!$A$1:$F$100,H37,2) -> 16 | J37: =INDEX(Salles!$A$1:$A$100,H37+1,1) -> A106
A38: =Eleves!A38 -> AZIZA | B38: =Eleves!B38 -> Brahim | C38: =Eleves!C38 -> 11/10/2009 | D38: =Eleves!D38 -> 31 | E38: =Eleves!E38 -> Standard | F38: =IF(G38<I38,F37,J38) -> A104 | G38: =COUNTIF($F$1:$F37,F37) -> 11 | H38: =MATCH(F37,Salles!$A$1:$A$500,0) -> 2 | I38: =INDEX(Salles!$A$1:$F$100,H38,2) -> 16 | J38: =INDEX(Salles!$A$1:$A$100,H38+1,1) -> A106
A39: =Eleves!A39 -> BALDI | B39: =Eleves!B39 -> Alizée | C39: =Eleves!C39 -> 03/12/2009 | D39: =Eleves!D39 -> 32 | E39: =Eleves!E39 -> Standard | F39: =IF(G39<I39,F38,J39) -> A104 | G39: =COUNTIF($F$1:$F38,F38) -> 12 | H39: =MATCH(F38,Salles!$A$1:$A$500,0) -> 2 | I39: =INDEX(Salles!$A$1:$F$100,H39,2) -> 16 | J39: =INDEX(Salles!$A$1:$A$100,H39+1,1) -> A106
... A191: =Eleves!A191 -> ZEPHIR | B191: =Eleves!B191 -> Loïc | C191: =Eleves!C191 -> 15/05/2009 | D191: =Eleves!D191 -> 34 | E191: =Eleves!E191 -> Standard | F191: =IF(G191<I191,F190,J191) -> B13 | G191: =COUNTIF($F$1:$F190,F190) -> 4 | H191: =MATCH(F190,Salles!$A$1:$A$500,0) -> 12 | I191: =INDEX(Salles!$A$1:$F$100,H191,2) -> 16 | J191: =INDEX(Salles!$A$1:$A$100,H191+1,1) -> A07

Sheet TEMP codes
A1: ALEATOIRE | B1: CODE | C1: CONTRÔLE | E1: NB ELEVES : | F1: 191
A2: =RANDBETWEEN(0,1000000) -> 43242 | B2: =IF(ROW()<$F$1+2,RANK($A2,INDIRECT("$A$2:$A$"&$F$1+1))+100,"") -> 284 | C2: =IF(ROW()<$F$1+2,COUNTIF(B2,B:B),"") -> 1
A3: =RANDBETWEEN(0,1000000) -> 426445 | B3: =IF(ROW()<$F$1+2,RANK($A3,INDIRECT("$A$2:$A$"&$F$1+1))+100,"") -> 219 | C3: =IF(ROW()<$F$1+2,COUNTIF(B3,B:B),"") -> 1
A4: =RANDBETWEEN(0,1000000) -> 891509 | B4: =IF(ROW()<$F$1+2,RANK($A4,INDIRECT("$A$2:$A$"&$F$1+1))+100,"") -> 125 | C4: =IF(ROW()<$F$1+2,COUNTIF(B4,B:B),"") -> 1
A5: =RANDBETWEEN(0,1000000) -> 646428 | B5: =IF(ROW()<$F$1+2,RANK($A5,INDIRECT("$A$2:$A$"&$F$1+1))+100,"") -> 184 | C5: =IF(ROW()<$F$1+2,COUNTIF(B5,B:B),"") -> 1
A6: =RANDBETWEEN(0,1000000) -> 899453 | B6: =IF(ROW()<$F$1+2,RANK($A6,INDIRECT("$A$2:$A$"&$F$1+1))+100,"") -> 122 | C6: =IF(ROW()<$F$1+2,COUNTIF(B6,B:B),"") -> 1
A7: =RANDBETWEEN(0,1000000) -> 718305 | B7: =IF(ROW()<$F$1+2,RANK($A7,INDIRECT("$A$2:$A$"&$F$1+1))+100,"") -> 161 | C7: =IF(ROW()<$F$1+2,COUNTIF(B7,B:B),"") -> 1
A8: =RANDBETWEEN(0,1000000) -> 331521 | B8: =IF(ROW()<$F$1+2,RANK($A8,INDIRECT("$A$2:$A$"&$F$1+1))+100,"") -> 237 | C8: =IF(ROW()<$F$1+2,COUNTIF(B8,B:B),"") -> 1
A9: =RANDBETWEEN(0,1000000) -> 701792 | B9: =IF(ROW()<$F$1+2,RANK($A9,INDIRECT("$A$2:$A$"&$F$1+1))+100,"") -> 166 | C9: =IF(ROW()<$F$1+2,COUNTIF(B9,B:B),"") -> 1
A10: =RANDBETWEEN(0,1000000) -> 933548 | B10: =IF(ROW()<$F$1+2,RANK($A10,INDIRECT("$A$2:$A$"&$F$1+1))+100,"") -> 114 | C10: =IF(ROW()<$F$1+2,COUNTIF(B10,B:B),"") -> 1
A11: =RANDBETWEEN(0,1000000) -> 244176 | B11: =IF(ROW()<$F$1+2,RANK($A11,INDIRECT("$A$2:$A$"&$F$1+1))+100,"") -> 252 | C11: =IF(ROW()<$F$1+2,COUNTIF(B11,B:B),"") -> 1
A12: =RANDBETWEEN(0,1000000) -> 919021 | B12: =IF(ROW()<$F$1+2,RANK($A12,INDIRECT("$A$2:$A$"&$F$1+1))+100,"") -> 118 | C12: =IF(ROW()<$F$1+2,COUNTIF(B12,B:B),"") -> 1
A13: =RANDBETWEEN(0,1000000) -> 234497 | B13: =IF(ROW()<$F$1+2,RANK($A13,INDIRECT("$A$2:$A$"&$F$1+1))+100,"") -> 255 | C13: =IF(ROW()<$F$1+2,COUNTIF(B13,B:B),"") -> 1
... A2500: =RANDBETWEEN(0,1000000) -> 872401 | B2500: =IF(ROW()<$F$1+2,RANK($A2500,INDIRECT("$A$2:$A$"&$F$1+1))+100,"") | C2500: =IF(ROW()<$F$1+2,COUNTIF(B2500,B:B),"")
