Workbook

Sheet publipostage
A1: ='feuille travail'!E1 -> NOM | B1: ='feuille travail'!F1 -> PRENOM | C1: ='feuille travail'!G1 -> DIV | D1: ='feuille travail'!J1 -> SUJET_PRESENTE | E1: ='feuille travail'!K1 -> JURY | F1: ='feuille travail'!L1 -> JOUR | G1: ='feuille travail'!M1 -> HPASSAGE | H1: ='feuille travail'!N1 -> SALLE | I1: ='feuille travail'!O1 -> HCONVOC | J1: ='feuille travail'!P1 -> DIAPORAMA
A2: ='feuille travail'!E2 -> AUBERGER | B2: ='feuille travail'!F2 -> Gaspard | C2: ='feuille travail'!G2 -> 34 | D2: ='feuille travail'!J2 -> Invention inutile : le parapluie pour chaussures (intro Allemand) | E2: ='feuille travail'!K2 -> 1 | F2: =TEXT('feuille travail'!L2,"jjjj j mmmm aaaa") -> jeudi 8 mai 2025 | G2: =TEXT('feuille travail'!M2,"hh\hmm") -> 08h15 | H2: ='feuille travail'!N2 -> A03 | I2: =TEXT('feuille travail'!O2,"hh\hmm") -> 08h00 | J2: ='feuille travail'!P2 -> oui
A3: ='feuille travail'!E3 -> COMBETTES | B3: ='feuille travail'!F3 -> Sean | C3: ='feuille travail'!G3 -> 34 | D3: ='feuille travail'!J3 -> Approche photographique des vaisseaux extraterrestres déguisés en nuages lenticulaires. (intro Allemand) | E3: ='feuille travail'!K3 -> 1 | F3: =TEXT('feuille travail'!L3,"jjjj j mmmm aaaa") -> jeudi 8 mai 2025 | G3: =TEXT('feuille travail'!M3,"hh\hmm") -> 08h35 | H3: ='feuille travail'!N3 -> A03 | I3: =TEXT('feuille travail'!O3,"hh\hmm") -> 08h20 | J3: ='feuille travail'!P3 -> oui
A4: ='feuille travail'!E4 -> GABARRE | B4: ='feuille travail'!F4 -> Fatou | C4: ='feuille travail'!G4 -> 34 | D4: ='feuille travail'!J4 -> Musique : détails sur la partition des chutes du Niagara (intro Allemand) | E4: ='feuille travail'!K4 -> 1 | F4: =TEXT('feuille travail'!L4,"jjjj j mmmm aaaa") -> jeudi 8 mai 2025 | G4: =TEXT('feuille travail'!M4,"hh\hmm") -> 08h55 | H4: ='feuille travail'!N4 -> A03 | I4: =TEXT('feuille travail'!O4,"hh\hmm") -> 08h40 | J4: ='feuille travail'!P4 -> oui
A5: ='feuille travail'!E5 -> LACHAUD | B5: ='feuille travail'!F5 -> Maher | C5: ='feuille travail'!G5 -> 36 | D5: ='feuille travail'!J5 -> Approche photographique des vaisseaux extraterrestres déguisés en nuages lenticulaires. (intro Allemand) | E5: ='feuille travail'!K5 -> 1 | F5: =TEXT('feuille travail'!L5,"jjjj j mmmm aaaa") -> jeudi 8 mai 2025 | G5: =TEXT('feuille travail'!M5,"hh\hmm") -> 09h15 | H5: ='feuille travail'!N5 -> A03 | I5: =TEXT('feuille travail'!O5,"hh\hmm") -> 09h00 | J5: ='feuille travail'!P5 -> non
A6: ='feuille travail'!E6 -> ABAIDIA | B6: ='feuille travail'!F6 -> Alix | C6: ='feuille travail'!G6 -> 35 | D6: ='feuille travail'!J6 -> Une théorie du complot : le petit-pois peut-il se cloner dans nos cerveaux ? (intro Anglais) | E6: ='feuille travail'!K6 -> 1 | F6: =TEXT('feuille travail'!L6,"jjjj j mmmm aaaa") -> jeudi 8 mai 2025 | G6: =TEXT('feuille travail'!M6,"hh\hmm") -> 09h35 | H6: ='feuille travail'!N6 -> A03 | I6: =TEXT('feuille travail'!O6,"hh\hmm") -> 09h20 | J6: ='feuille travail'!P6 -> oui
A7: ='feuille travail'!E7 -> ABED | B7: ='feuille travail'!F7 -> Cyrielle | C7: ='feuille travail'!G7 -> 32 | D7: ='feuille travail'!J7 -> Une théorie du complot : le petit-pois peut-il se cloner dans nos cerveaux ? (intro Anglais) | E7: ='feuille travail'!K7 -> 1 | F7: =TEXT('feuille travail'!L7,"jjjj j mmmm aaaa") -> jeudi 8 mai 2025 | G7: =TEXT('feuille travail'!M7,"hh\hmm") -> 10h10 | H7: ='feuille travail'!N7 -> A03 | I7: =TEXT('feuille travail'!O7,"hh\hmm") -> 09h55 | J7: ='feuille travail'!P7 -> oui
A8: ='feuille travail'!E8 -> ADJAL | B8: ='feuille travail'!F8 -> Mike | C8: ='feuille travail'!G8 -> 32 | D8: ='feuille travail'!J8 -> Cuisine du monde : la soupe de caillou (intro Anglais) | E8: ='feuille travail'!K8 -> 1 | F8: =TEXT('feuille travail'!L8,"jjjj j mmmm aaaa") -> jeudi 8 mai 2025 | G8: =TEXT('feuille travail'!M8,"hh\hmm") -> 10h30 | H8: ='feuille travail'!N8 -> A03 | I8: =TEXT('feuille travail'!O8,"hh\hmm") -> 10h15 | J8: ='feuille travail'!P8 -> oui
A9: ='feuille travail'!E9 -> AMICO | B9: ='feuille travail'!F9 -> Grégoire | C9: ='feuille travail'!G9 -> 31 | D9: ='feuille travail'!J9 -> Recherche et développement : recyclage des allumettes usagées (intro Anglais) | E9: ='feuille travail'!K9 -> 1 | F9: =TEXT('feuille travail'!L9,"jjjj j mmmm aaaa") -> jeudi 8 mai 2025 | G9: =TEXT('feuille travail'!M9,"hh\hmm") -> 10h50 | H9: ='feuille travail'!N9 -> A03 | I9: =TEXT('feuille travail'!O9,"hh\hmm") -> 10h35 | J9: ='feuille travail'!P9 -> non
A10: ='feuille travail'!E10 -> ANANI | B10: ='feuille travail'!F10 -> Sami | C10: ='feuille travail'!G10 -> 34 | D10: ='feuille travail'!J10 -> Une théorie du complot : le petit-pois peut-il se cloner dans nos cerveaux ? (intro Anglais) | E10: ='feuille travail'!K10 -> 1 | F10: =TEXT('feuille travail'!L10,"jjjj j mmmm aaaa") -> jeudi 8 mai 2025 | G10: =TEXT('feuille travail'!M10,"hh\hmm") -> 11h10 | H10: ='feuille travail'!N10 -> A03 | I10: =TEXT('feuille travail'!O10,"hh\hmm") -> 10h55 | J10: ='feuille travail'!P10 -> oui
A11: ='feuille travail'!E11 -> AUBRUN | B11: ='feuille travail'!F11 -> Louka | C11: ='feuille travail'!G11 -> 35 | D11: ='feuille travail'!J11 -> Une théorie du complot : le petit-pois peut-il se cloner dans nos cerveaux ? (intro Anglais) | E11: ='feuille travail'!K11 -> 2 | F11: =TEXT('feuille travail'!L11,"jjjj j mmmm aaaa") -> jeudi 8 mai 2025 | G11: =TEXT('feuille travail'!M11,"hh\hmm") -> 08h15 | H11: ='feuille travail'!N11 -> A04 | I11: =TEXT('feuille travail'!O11,"hh\hmm") -> 08h00 | J11: ='feuille travail'!P11 -> oui
A12: ='feuille travail'!E12 -> AVELLANEDA | B12: ='feuille travail'!F12 -> Ishaq | C12: ='feuille travail'!G12 -> 36 | D12: ='feuille travail'!J12 -> Que se passerait-il si le tigre à dents de sabre réapparaissait sur la terre aujourd'hui ? (intro Anglais) | E12: ='feuille travail'!K12 -> 2 | F12: =TEXT('feuille travail'!L12,"jjjj j mmmm aaaa") -> jeudi 8 mai 2025 | G12: =TEXT('feuille travail'!M12,"hh\hmm") -> 08h35 | H12: ='feuille travail'!N12 -> A04 | I12: =TEXT('feuille travail'!O12,"hh\hmm") -> 08h20 | J12: ='feuille travail'!P12 -> oui
A13: ='feuille travail'!E13 -> AVIGNON | B13: ='feuille travail'!F13 -> Angèle | C13: ='feuille travail'!G13 -> 35 | D13: ='feuille travail'!J13 -> Une théorie du complot : le petit-pois peut-il se cloner dans nos cerveaux ? (intro Anglais) | E13: ='feuille travail'!K13 -> 2 | F13: =TEXT('feuille travail'!L13,"jjjj j mmmm aaaa") -> jeudi 8 mai 2025 | G13: =TEXT('feuille travail'!M13,"hh\hmm") -> 08h55 | H13: ='feuille travail'!N13 -> A04 | I13: =TEXT('feuille travail'!O13,"hh\hmm") -> 08h40 | J13: ='feuille travail'!P13 -> non
... A173: ='feuille travail'!E173 -> TABARD | B173: ='feuille travail'!F173 -> Keyla | C173: ='feuille travail'!G173 -> 37 | D173: ='feuille travail'!J173 -> Recherche et développement : recyclage des allumettes usagées (intro 0) | E173: ='feuille travail'!K173 -> 18 | F173: =TEXT('feuille travail'!L173,"jjjj j mmmm aaaa") -> jeudi 8 mai 2025 | G173: =TEXT('feuille travail'!M173,"hh\hmm") -> 11h30 | H173: ='feuille travail'!N173 -> B107 | I173: =TEXT('feuille travail'!O173,"hh\hmm") -> 11h15 | J173: ='feuille travail'!P173 -> non

Sheet feuille travail
A1: NUM | B1: RG | C1: ACCUEIL | D1: SALLE PREP | E1: NOM | F1: PRENOM | G1: DIV | H1: SUJET_CHOISI | I1: INTRO LV | J1: SUJET_PRESENTE | K1: JURY | L1: JOUR | M1: HPASSAGE | N1: SALLE | O1: HCONVOC | P1: DIAPORAMA | R1: Date | S1: N° | T1: Horaires | V1: Nb élèves max par jury : | W1: 10
A2: =IF('choix oral'!C2<>"",ROW()-1,"") -> 1 | B2: =COUNTIF(K$1:K2,K2) -> 1 | C2: =INDEX($R$17:Y$36,MATCH(K2,$R$17:$R$36),8) -> 1 | D2: =INDEX($R$17:Y$36,MATCH(K2,$R$17:$R$36),7) -> A02 | E2: {=INDEX('choix oral'!D:D,ROW())} -> AUBERGER | F2: {=INDEX('choix oral'!E:E,ROW())} -> Gaspard | G2: {=INDEX('choix oral'!F:F,ROW())} -> 34 | H2: {=INDEX('choix oral'!G:G,ROW())} -> Invention inutile : le parapluie pour chaussures | I2: {=INDEX('choix oral'!H:H,ROW())} -> Allemand | J2: =IF(I2<>"",CONCATENATE(H2," (intro ",I2,")"),H2) -> Invention inutile : le parapluie pour chaussures (intro Allemand) | K2: =INDEX('choix oral'!A:A,ROW()) -> 1 | L2: =IF(LEN(E2)>1,$R$2,"") -> 45785 | M2: =INDEX($T$2:$T$30,ROW()-MATCH(K2,$K:$K,0)+1,1) -> 0.34375 | N2: =INDEX($R$17:$W$36,MATCH(K2,$R$17:$R$36),6) -> A03 | O2: =M2-$R$8 -> 0.33333333 | P2: {=INDEX('choix oral'!I:I,ROW())} -> oui | R2: 45785 | S2: =IF(ROW()-1>$W$1,"",ROW()-1) -> 1 | T2: 0.34375 | V2: Nb jurys : | W2: 18 | X2: minimum : | Y2: =MIN(MAX(A:A),ROUNDUP(W3/W1,0)) -> 18
A3: =IF('choix oral'!C3<>"",ROW()-1,"") -> 2 | B3: =COUNTIF(K$1:K3,K3) -> 2 | C3: =INDEX($R$17:Y$36,MATCH(K3,$R$17:$R$36),8) -> 1 | D3: =INDEX($R$17:Y$36,MATCH(K3,$R$17:$R$36),7) -> A02 | E3: {=INDEX('choix oral'!D:D,ROW())} -> COMBETTES | F3: {=INDEX('choix oral'!E:E,ROW())} -> Sean | G3: {=INDEX('choix oral'!F:F,ROW())} -> 34 | H3: {=INDEX('choix oral'!G:G,ROW())} -> Approche photographique des vaisseaux extraterrestres déguisés en nuages lenticulaires. | I3: {=INDEX('choix oral'!H:H,ROW())} -> Allemand | J3: =IF(I3<>"",CONCATENATE(H3," (intro ",I3,")"),H3) -> Approche photographique des vaisseaux extraterrestres déguisés en nuages lenticulaires. (intro Allemand) | K3: =INDEX('choix oral'!A:A,ROW()) -> 1 | L3: =IF(LEN(E3)>1,$R$2,"") -> 45785 | M3: =INDEX($T$2:$T$30,ROW()-MATCH(K3,$K:$K,0)+1,1) -> 0.35763889 | N3: =INDEX($R$17:$W$36,MATCH(K3,$R$17:$R$36),6) -> A03 | O3: =M3-$R$8 -> 0.34722222 | P3: {=INDEX('choix oral'!I:I,ROW())} -> oui | S3: =IF(ROW()-1>$W$1,"",ROW()-1) -> 2 | T3: =IF(S3<>"",IF(T2+$R$5>=$R$11,IF(T2+$R$5>$R$14,T2+$R$5,$R$14),T2+$R$5),"") -> 0.35763889 | V3: Nb élèves : | W3: =2019-COUNTBLANK(E2:E2020) -> 172
A4: =IF('choix oral'!C4<>"",ROW()-1,"") -> 3 | B4: =COUNTIF(K$1:K4,K4) -> 3 | C4: =INDEX($R$17:Y$36,MATCH(K4,$R$17:$R$36),8) -> 1 | D4: =INDEX($R$17:Y$36,MATCH(K4,$R$17:$R$36),7) -> A02 | E4: {=INDEX('choix oral'!D:D,ROW())} -> GABARRE | F4: {=INDEX('choix oral'!E:E,ROW())} -> Fatou | G4: {=INDEX('choix oral'!F:F,ROW())} -> 34 | H4: {=INDEX('choix oral'!G:G,ROW())} -> Musique : détails sur la partition des chutes du Niagara | I4: {=INDEX('choix oral'!H:H,ROW())} -> Allemand | J4: =IF(I4<>"",CONCATENATE(H4," (intro ",I4,")"),H4) -> Musique : détails sur la partition des chutes du Niagara (intro Allemand) | K4: =INDEX('choix oral'!A:A,ROW()) -> 1 | L4: =IF(LEN(E4)>1,$R$2,"") -> 45785 | M4: =INDEX($T$2:$T$30,ROW()-MATCH(K4,$K:$K,0)+1,1) -> 0.37152778 | N4: =INDEX($R$17:$W$36,MATCH(K4,$R$17:$R$36),6) -> A03 | O4: =M4-$R$8 -> 0.36111111 | P4: {=INDEX('choix oral'!I:I,ROW())} -> oui | R4: Durée | S4: =IF(ROW()-1>$W$1,"",ROW()-1) -> 3 | T4: =IF(S4<>"",IF(T3+$R$5>=$R$11,IF(T3+$R$5>$R$14,T3+$R$5,$R$14),T3+$R$5),"") -> 0.37152778
A5: =IF('choix oral'!C5<>"",ROW()-1,"") -> 4 | B5: =COUNTIF(K$1:K5,K5) -> 4 | C5: =INDEX($R$17:Y$36,MATCH(K5,$R$17:$R$36),8) -> 1 | D5: =INDEX($R$17:Y$36,MATCH(K5,$R$17:$R$36),7) -> A02 | E5: {=INDEX('choix oral'!D:D,ROW())} -> LACHAUD | F5: {=INDEX('choix oral'!E:E,ROW())} -> Maher | G5: {=INDEX('choix oral'!F:F,ROW())} -> 36 | H5: {=INDEX('choix oral'!G:G,ROW())} -> Approche photographique des vaisseaux extraterrestres déguisés en nuages lenticulaires. | I5: {=INDEX('choix oral'!H:H,ROW())} -> Allemand | J5: =IF(I5<>"",CONCATENATE(H5," (intro ",I5,")"),H5) -> Approche photographique des vaisseaux extraterrestres déguisés en nuages lenticulaires. (intro Allemand) | K5: =INDEX('choix oral'!A:A,ROW()) -> 1 | L5: =IF(LEN(E5)>1,$R$2,"") -> 45785 | M5: =INDEX($T$2:$T$30,ROW()-MATCH(K5,$K:$K,0)+1,1) -> 0.38541667 | N5: =INDEX($R$17:$W$36,MATCH(K5,$R$17:$R$36),6) -> A03 | O5: =M5-$R$8 -> 0.375 | P5: {=INDEX('choix oral'!I:I,ROW())} -> non | R5: 0.013888889 | S5: =IF(ROW()-1>$W$1,"",ROW()-1) -> 4 | T5: =IF(S5<>"",IF(T4+$R$5>=$R$11,IF(T4+$R$5>$R$14,T4+$R$5,$R$14),T4+$R$5),"") -> 0.38541667
A6: =IF('choix oral'!C6<>"",ROW()-1,"") -> 5 | B6: =COUNTIF(K$1:K6,K6) -> 5 | C6: =INDEX($R$17:Y$36,MATCH(K6,$R$17:$R$36),8) -> 1 | D6: =INDEX($R$17:Y$36,MATCH(K6,$R$17:$R$36),7) -> A02 | E6: {=INDEX('choix oral'!D:D,ROW())} -> ABAIDIA | F6: {=INDEX('choix oral'!E:E,ROW())} -> Alix | G6: {=INDEX('choix oral'!F:F,ROW())} -> 35 | H6: {=INDEX('choix oral'!G:G,ROW())} -> Une théorie du complot : le petit-pois peut-il se cloner dans nos cerveaux ? | I6: {=INDEX('choix oral'!H:H,ROW())} -> Anglais | J6: =IF(I6<>"",CONCATENATE(H6," (intro ",I6,")"),H6) -> Une théorie du complot : le petit-pois peut-il se cloner dans nos cerveaux ? (intro Anglais) | K6: =INDEX('choix oral'!A:A,ROW()) -> 1 | L6: =IF(LEN(E6)>1,$R$2,"") -> 45785 | M6: =INDEX($T$2:$T$30,ROW()-MATCH(K6,$K:$K,0)+1,1) -> 0.39930556 | N6: =INDEX($R$17:$W$36,MATCH(K6,$R$17:$R$36),6) -> A03 | O6: =M6-$R$8 -> 0.38888889 | P6: {=INDEX('choix oral'!I:I,ROW())} -> oui | S6: =IF(ROW()-1>$W$1,"",ROW()-1) -> 5 | T6: =IF(S6<>"",IF(T5+$R$5>=$R$11,IF(T5+$R$5>$R$14,T5+$R$5,$R$14),T5+$R$5),"") -> 0.39930556
A7: =IF('choix oral'!C7<>"",ROW()-1,"") -> 6 | B7: =COUNTIF(K$1:K7,K7) -> 6 | C7: =INDEX($R$17:Y$36,MATCH(K7,$R$17:$R$36),8) -> 1 | D7: =INDEX($R$17:Y$36,MATCH(K7,$R$17:$R$36),7) -> A02 | E7: {=INDEX('choix oral'!D:D,ROW())} -> ABED | F7: {=INDEX('choix oral'!E:E,ROW())} -> Cyrielle | G7: {=INDEX('choix oral'!F:F,ROW())} -> 32 | H7: {=INDEX('choix oral'!G:G,ROW())} -> Une théorie du complot : le petit-pois peut-il se cloner dans nos cerveaux ? | I7: {=INDEX('choix oral'!H:H,ROW())} -> Anglais | J7: =IF(I7<>"",CONCATENATE(H7," (intro ",I7,")"),H7) -> Une théorie du complot : le petit-pois peut-il se cloner dans nos cerveaux ? (intro Anglais) | K7: =INDEX('choix oral'!A:A,ROW()) -> 1 | L7: =IF(LEN(E7)>1,$R$2,"") -> 45785 | M7: =INDEX($T$2:$T$30,ROW()-MATCH(K7,$K:$K,0)+1,1) -> 0.42361111 | N7: =INDEX($R$17:$W$36,MATCH(K7,$R$17:$R$36),6) -> A03 | O7: =M7-$R$8 -> 0.41319444 | P7: {=INDEX('choix oral'!I:I,ROW())} -> oui | R7: Préparation | S7: =IF(ROW()-1>$W$1,"",ROW()-1) -> 6 | T7: =IF(S7<>"",IF(T6+$R$5>=$R$11,IF(T6+$R$5>$R$14,T6+$R$5,$R$14),T6+$R$5),"") -> 0.42361111
A8: =IF('choix oral'!C8<>"",ROW()-1,"") -> 7 | B8: =COUNTIF(K$1:K8,K8) -> 7 | C8: =INDEX($R$17:Y$36,MATCH(K8,$R$17:$R$36),8) -> 1 | D8: =INDEX($R$17:Y$36,MATCH(K8,$R$17:$R$36),7) -> A02 | E8: {=INDEX('choix oral'!D:D,ROW())} -> ADJAL | F8: {=INDEX('choix oral'!E:E,ROW())} -> Mike | G8: {=INDEX('choix oral'!F:F,ROW())} -> 32 | H8: {=INDEX('choix oral'!G:G,ROW())} -> Cuisine du monde : la soupe de caillou | I8: {=INDEX('choix oral'!H:H,ROW())} -> Anglais | J8: =IF(I8<>"",CONCATENATE(H8," (intro ",I8,")"),H8) -> Cuisine du monde : la soupe de caillou (intro Anglais) | K8: =INDEX('choix oral'!A:A,ROW()) -> 1 | L8: =IF(LEN(E8)>1,$R$2,"") -> 45785 | M8: =INDEX($T$2:$T$30,ROW()-MATCH(K8,$K:$K,0)+1,1) -> 0.4375 | N8: =INDEX($R$17:$W$36,MATCH(K8,$R$17:$R$36),6) -> A03 | O8: =M8-$R$8 -> 0.42708333 | P8: {=INDEX('choix oral'!I:I,ROW())} -> oui | R8: 0.010416667 | S8: =IF(ROW()-1>$W$1,"",ROW()-1) -> 7 | T8: =IF(S8<>"",IF(T7+$R$5>=$R$11,IF(T7+$R$5>$R$14,T7+$R$5,$R$14),T7+$R$5),"") -> 0.4375
A9: =IF('choix oral'!C9<>"",ROW()-1,"") -> 8 | B9: =COUNTIF(K$1:K9,K9) -> 8 | C9: =INDEX($R$17:Y$36,MATCH(K9,$R$17:$R$36),8) -> 1 | D9: =INDEX($R$17:Y$36,MATCH(K9,$R$17:$R$36),7) -> A02 | E9: {=INDEX('choix oral'!D:D,ROW())} -> AMICO | F9: {=INDEX('choix oral'!E:E,ROW())} -> Grégoire | G9: {=INDEX('choix oral'!F:F,ROW())} -> 31 | H9: {=INDEX('choix oral'!G:G,ROW())} -> Recherche et développement : recyclage des allumettes usagées | I9: {=INDEX('choix oral'!H:H,ROW())} -> Anglais | J9: =IF(I9<>"",CONCATENATE(H9," (intro ",I9,")"),H9) -> Recherche et développement : recyclage des allumettes usagées (intro Anglais) | K9: =INDEX('choix oral'!A:A,ROW()) -> 1 | L9: =IF(LEN(E9)>1,$R$2,"") -> 45785 | M9: =INDEX($T$2:$T$30,ROW()-MATCH(K9,$K:$K,0)+1,1) -> 0.45138889 | N9: =INDEX($R$17:$W$36,MATCH(K9,$R$17:$R$36),6) -> A03 | O9: =M9-$R$8 -> 0.44097222 | P9: {=INDEX('choix oral'!I:I,ROW())} -> non | S9: =IF(ROW()-1>$W$1,"",ROW()-1) -> 8 | T9: =IF(S9<>"",IF(T8+$R$5>=$R$11,IF(T8+$R$5>$R$14,T8+$R$5,$R$14),T8+$R$5),"") -> 0.45138889
A10: =IF('choix oral'!C10<>"",ROW()-1,"") -> 9 | B10: =COUNTIF(K$1:K10,K10) -> 9 | C10: =INDEX($R$17:Y$36,MATCH(K10,$R$17:$R$36),8) -> 1 | D10: =INDEX($R$17:Y$36,MATCH(K10,$R$17:$R$36),7) -> A02 | E10: {=INDEX('choix oral'!D:D,ROW())} -> ANANI | F10: {=INDEX('choix oral'!E:E,ROW())} -> Sami | G10: {=INDEX('choix oral'!F:F,ROW())} -> 34 | H10: {=INDEX('choix oral'!G:G,ROW())} -> Une théorie du complot : le petit-pois peut-il se cloner dans nos cerveaux ? | I10: {=INDEX('choix oral'!H:H,ROW())} -> Anglais | J10: =IF(I10<>"",CONCATENATE(H10," (intro ",I10,")"),H10) -> Une théorie du complot : le petit-pois peut-il se cloner dans nos cerveaux ? (intro Anglais) | K10: =INDEX('choix oral'!A:A,ROW()) -> 1 | L10: =IF(LEN(E10)>1,$R$2,"") -> 45785 | M10: =INDEX($T$2:$T$30,ROW()-MATCH(K10,$K:$K,0)+1,1) -> 0.46527778 | N10: =INDEX($R$17:$W$36,MATCH(K10,$R$17:$R$36),6) -> A03 | O10: =M10-$R$8 -> 0.45486111 | P10: {=INDEX('choix oral'!I:I,ROW())} -> oui | R10: Début pause à | S10: =IF(ROW()-1>$W$1,"",ROW()-1) -> 9 | T10: =IF(S10<>"",IF(T9+$R$5>=$R$11,IF(T9+$R$5>$R$14,T9+$R$5,$R$14),T9+$R$5),"") -> 0.46527778
A11: =IF('choix oral'!C11<>"",ROW()-1,"") -> 10 | B11: =COUNTIF(K$1:K11,K11) -> 1 | C11: =INDEX($R$17:Y$36,MATCH(K11,$R$17:$R$36),8) -> 1 | D11: =INDEX($R$17:Y$36,MATCH(K11,$R$17:$R$36),7) -> A02 | E11: {=INDEX('choix oral'!D:D,ROW())} -> AUBRUN | F11: {=INDEX('choix oral'!E:E,ROW())} -> Louka | G11: {=INDEX('choix oral'!F:F,ROW())} -> 35 | H11: {=INDEX('choix oral'!G:G,ROW())} -> Une théorie du complot : le petit-pois peut-il se cloner dans nos cerveaux ? | I11: {=INDEX('choix oral'!H:H,ROW())} -> Anglais | J11: =IF(I11<>"",CONCATENATE(H11," (intro ",I11,")"),H11) -> Une théorie du complot : le petit-pois peut-il se cloner dans nos cerveaux ? (intro Anglais) | K11: =INDEX('choix oral'!A:A,ROW()) -> 2 | L11: =IF(LEN(E11)>1,$R$2,"") -> 45785 | M11: =INDEX($T$2:$T$30,ROW()-MATCH(K11,$K:$K,0)+1,1) -> 0.34375 | N11: =INDEX($R$17:$W$36,MATCH(K11,$R$17:$R$36),6) -> A04 | O11: =M11-$R$8 -> 0.33333333 | P11: {=INDEX('choix oral'!I:I,ROW())} -> oui | R11: 0.41319444 | S11: =IF(ROW()-1>$W$1,"",ROW()-1) -> 10 | T11: =IF(S11<>"",IF(T10+$R$5>=$R$11,IF(T10+$R$5>$R$14,T10+$R$5,$R$14),T10+$R$5),"") -> 0.47916667
A12: =IF('choix oral'!C12<>"",ROW()-1,"") -> 11 | B12: =COUNTIF(K$1:K12,K12) -> 2 | C12: =INDEX($R$17:Y$36,MATCH(K12,$R$17:$R$36),8) -> 1 | D12: =INDEX($R$17:Y$36,MATCH(K12,$R$17:$R$36),7) -> A02 | E12: {=INDEX('choix oral'!D:D,ROW())} -> AVELLANEDA | F12: {=INDEX('choix oral'!E:E,ROW())} -> Ishaq | G12: {=INDEX('choix oral'!F:F,ROW())} -> 36 | H12: {=INDEX('choix oral'!G:G,ROW())} -> Que se passerait-il si le tigre à dents de sabre réapparaissait sur la terre aujourd'hui ? | I12: {=INDEX('choix oral'!H:H,ROW())} -> Anglais | J12: =IF(I12<>"",CONCATENATE(H12," (intro ",I12,")"),H12) -> Que se passerait-il si le tigre à dents de sabre réapparaissait sur la terre aujourd'hui ? (intro Anglais) | K12: =INDEX('choix oral'!A:A,ROW()) -> 2 | L12: =IF(LEN(E12)>1,$R$2,"") -> 45785 | M12: =INDEX($T$2:$T$30,ROW()-MATCH(K12,$K:$K,0)+1,1) -> 0.35763889 | N12: =INDEX($R$17:$W$36,MATCH(K12,$R$17:$R$36),6) -> A04 | O12: =M12-$R$8 -> 0.34722222 | P12: {=INDEX('choix oral'!I:I,ROW())} -> oui | S12: =IF(ROW()-1>$W$1,"",ROW()-1) | T12: =IF(S12<>"",IF(T11+$R$5>=$R$11,IF(T11+$R$5>$R$14,T11+$R$5,$R$14),T11+$R$5),"")
A13: =IF('choix oral'!C13<>"",ROW()-1,"") -> 12 | B13: =COUNTIF(K$1:K13,K13) -> 3 | C13: =INDEX($R$17:Y$36,MATCH(K13,$R$17:$R$36),8) -> 1 | D13: =INDEX($R$17:Y$36,MATCH(K13,$R$17:$R$36),7) -> A02 | E13: {=INDEX('choix oral'!D:D,ROW())} -> AVIGNON | F13: {=INDEX('choix oral'!E:E,ROW())} -> Angèle | G13: {=INDEX('choix oral'!F:F,ROW())} -> 35 | H13: {=INDEX('choix oral'!G:G,ROW())} -> Une théorie du complot : le petit-pois peut-il se cloner dans nos cerveaux ? | I13: {=INDEX('choix oral'!H:H,ROW())} -> Anglais | J13: =IF(I13<>"",CONCATENATE(H13," (intro ",I13,")"),H13) -> Une théorie du complot : le petit-pois peut-il se cloner dans nos cerveaux ? (intro Anglais) | K13: =INDEX('choix oral'!A:A,ROW()) -> 2 | L13: =IF(LEN(E13)>1,$R$2,"") -> 45785 | M13: =INDEX($T$2:$T$30,ROW()-MATCH(K13,$K:$K,0)+1,1) -> 0.37152778 | N13: =INDEX($R$17:$W$36,MATCH(K13,$R$17:$R$36),6) -> A04 | O13: =M13-$R$8 -> 0.36111111 | P13: {=INDEX('choix oral'!I:I,ROW())} -> non | R13: Fin pause à | S13: =IF(ROW()-1>$W$1,"",ROW()-1) | T13: =IF(S13<>"",IF(T12+$R$5>=$R$11,IF(T12+$R$5>$R$14,T12+$R$5,$R$14),T12+$R$5),"")
A14: =IF('choix oral'!C14<>"",ROW()-1,"") -> 13 | B14: =COUNTIF(K$1:K14,K14) -> 4 | C14: =INDEX($R$17:Y$36,MATCH(K14,$R$17:$R$36),8) -> 1 | D14: =INDEX($R$17:Y$36,MATCH(K14,$R$17:$R$36),7) -> A02 | E14: {=INDEX('choix oral'!D:D,ROW())} -> AZIZA | F14: {=INDEX('choix oral'!E:E,ROW())} -> Brahim | G14: {=INDEX('choix oral'!F:F,ROW())} -> 33 | H14: {=INDEX('choix oral'!G:G,ROW())} -> Que se passerait-il si le tigre à dents de sabre réapparaissait sur la terre aujourd'hui ? | I14: {=INDEX('choix oral'!H:H,ROW())} -> Anglais | J14: =IF(I14<>"",CONCATENATE(H14," (intro ",I14,")"),H14) -> Que se passerait-il si le tigre à dents de sabre réapparaissait sur la terre aujourd'hui ? (intro Anglais) | K14: =INDEX('choix oral'!A:A,ROW()) -> 2 | L14: =IF(LEN(E14)>1,$R$2,"") -> 45785 | M14: =INDEX($T$2:$T$30,ROW()-MATCH(K14,$K:$K,0)+1,1) -> 0.38541667 | N14: =INDEX($R$17:$W$36,MATCH(K14,$R$17:$R$36),6) -> A04 | O14: =M14-$R$8 -> 0.375 | P14: {=INDEX('choix oral'!I:I,ROW())} -> non | R14: 0.42361111 | S14: =IF(ROW()-1>$W$1,"",ROW()-1) | T14: =IF(S14<>"",IF(T13+$R$5>=$R$11,IF(T13+$R$5>$R$14,T13+$R$5,$R$14),T13+$R$5),"")
A15: =IF('choix oral'!C15<>"",ROW()-1,"") -> 14 | B15: =COUNTIF(K$1:K15,K15) -> 5 | C15: =INDEX($R$17:Y$36,MATCH(K15,$R$17:$R$36),8) -> 1 | D15: =INDEX($R$17:Y$36,MATCH(K15,$R$17:$R$36),7) -> A02 | E15: {=INDEX('choix oral'!D:D,ROW())} -> BARTEL | F15: {=INDEX('choix oral'!E:E,ROW())} -> Jérémie | G15: {=INDEX('choix oral'!F:F,ROW())} -> 32 | H15: {=INDEX('choix oral'!G:G,ROW())} -> Que se passerait-il si le tigre à dents de sabre réapparaissait sur la terre aujourd'hui ? | I15: {=INDEX('choix oral'!H:H,ROW())} -> Anglais | J15: =IF(I15<>"",CONCATENATE(H15," (intro ",I15,")"),H15) -> Que se passerait-il si le tigre à dents de sabre réapparaissait sur la terre aujourd'hui ? (intro Anglais) | K15: =INDEX('choix oral'!A:A,ROW()) -> 2 | L15: =IF(LEN(E15)>1,$R$2,"") -> 45785 | M15: =INDEX($T$2:$T$30,ROW()-MATCH(K15,$K:$K,0)+1,1) -> 0.39930556 | N15: =INDEX($R$17:$W$36,MATCH(K15,$R$17:$R$36),6) -> A04 | O15: =M15-$R$8 -> 0.38888889 | P15: {=INDEX('choix oral'!I:I,ROW())} -> non
A16: =IF('choix oral'!C16<>"",ROW()-1,"") -> 15 | B16: =COUNTIF(K$1:K16,K16) -> 6 | C16: =INDEX($R$17:Y$36,MATCH(K16,$R$17:$R$36),8) -> 1 | D16: =INDEX($R$17:Y$36,MATCH(K16,$R$17:$R$36),7) -> A02 | E16: {=INDEX('choix oral'!D:D,ROW())} -> BOURGUIGNON | F16: {=INDEX('choix oral'!E:E,ROW())} -> Maëlly | G16: {=INDEX('choix oral'!F:F,ROW())} -> 37 | H16: {=INDEX('choix oral'!G:G,ROW())} -> Recherche et développement : recyclage des allumettes usagées | I16: {=INDEX('choix oral'!H:H,ROW())} -> Anglais | J16: =IF(I16<>"",CONCATENATE(H16," (intro ",I16,")"),H16) -> Recherche et développement : recyclage des allumettes usagées (intro Anglais) | K16: =INDEX('choix oral'!A:A,ROW()) -> 2 | L16: =IF(LEN(E16)>1,$R$2,"") -> 45785 | M16: =INDEX($T$2:$T$30,ROW()-MATCH(K16,$K:$K,0)+1,1) -> 0.42361111 | N16: =INDEX($R$17:$W$36,MATCH(K16,$R$17:$R$36),6) -> A04 | O16: =M16-$R$8 -> 0.41319444 | P16: {=INDEX('choix oral'!I:I,ROW())} -> oui
A17: =IF('choix oral'!C17<>"",ROW()-1,"") -> 16 | B17: =COUNTIF(K$1:K17,K17) -> 7 | C17: =INDEX($R$17:Y$36,MATCH(K17,$R$17:$R$36),8) -> 1 | D17: =INDEX($R$17:Y$36,MATCH(K17,$R$17:$R$36),7) -> A02 | E17: {=INDEX('choix oral'!D:D,ROW())} -> BREYSSE | F17: {=INDEX('choix oral'!E:E,ROW())} -> Ethann | G17: {=INDEX('choix oral'!F:F,ROW())} -> 37 | H17: {=INDEX('choix oral'!G:G,ROW())} -> Agriculture : la limace comme substitut aux tomates cerises | I17: {=INDEX('choix oral'!H:H,ROW())} -> Anglais | J17: =IF(I17<>"",CONCATENATE(H17," (intro ",I17,")"),H17) -> Agriculture : la limace comme substitut aux tomates cerises (intro Anglais) | K17: =INDEX('choix oral'!A:A,ROW()) -> 2 | L17: =IF(LEN(E17)>1,$R$2,"") -> 45785 | M17: =INDEX($T$2:$T$30,ROW()-MATCH(K17,$K:$K,0)+1,1) -> 0.4375 | N17: =INDEX($R$17:$W$36,MATCH(K17,$R$17:$R$36),6) -> A04 | O17: =M17-$R$8 -> 0.42708333 | P17: {=INDEX('choix oral'!I:I,ROW())} -> oui | R17: N° jury | S17: Nb él. / jury | T17: Nb él. Max | U17: Reste | V17: Nb jurys | W17: Salle | X17: Prep | Y17: Accueil
A18: =IF('choix oral'!C18<>"",ROW()-1,"") -> 17 | B18: =COUNTIF(K$1:K18,K18) -> 8 | C18: =INDEX($R$17:Y$36,MATCH(K18,$R$17:$R$36),8) -> 1 | D18: =INDEX($R$17:Y$36,MATCH(K18,$R$17:$R$36),7) -> A02 | E18: {=INDEX('choix oral'!D:D,ROW())} -> BULTEAU | F18: {=INDEX('choix oral'!E:E,ROW())} -> Yassir | G18: {=INDEX('choix oral'!F:F,ROW())} -> 31 | H18: {=INDEX('choix oral'!G:G,ROW())} -> Que se passerait-il si le tigre à dents de sabre réapparaissait sur la terre aujourd'hui ? | I18: {=INDEX('choix oral'!H:H,ROW())} -> Anglais | J18: =IF(I18<>"",CONCATENATE(H18," (intro ",I18,")"),H18) -> Que se passerait-il si le tigre à dents de sabre réapparaissait sur la terre aujourd'hui ? (intro Anglais) | K18: =INDEX('choix oral'!A:A,ROW()) -> 2 | L18: =IF(LEN(E18)>1,$R$2,"") -> 45785 | M18: =INDEX($T$2:$T$30,ROW()-MATCH(K18,$K:$K,0)+1,1) -> 0.45138889 | N18: =INDEX($R$17:$W$36,MATCH(K18,$R$17:$R$36),6) -> A04 | O18: =M18-$R$8 -> 0.44097222 | P18: {=INDEX('choix oral'!I:I,ROW())} -> non | R18: 1 | S18: =COUNTIF($K:$K,R18) -> 9 | T18: =IF(V18>0,QUOTIENT(W3,V18),"") -> 9 | U18: =IF(V18>0,W3-T18,"") -> 163 | V18: =W2 -> 18 | W18: A03 | X18: A02 | Y18: 1
A19: =IF('choix oral'!C19<>"",ROW()-1,"") -> 18 | B19: =COUNTIF(K$1:K19,K19) -> 9 | C19: =INDEX($R$17:Y$36,MATCH(K19,$R$17:$R$36),8) -> 1 | D19: =INDEX($R$17:Y$36,MATCH(K19,$R$17:$R$36),7) -> A02 | E19: {=INDEX('choix oral'!D:D,ROW())} -> CHAHID | F19: {=INDEX('choix oral'!E:E,ROW())} -> Kenny | G19: {=INDEX('choix oral'!F:F,ROW())} -> 33 | H19: {=INDEX('choix oral'!G:G,ROW())} -> Que se passerait-il si le tigre à dents de sabre réapparaissait sur la terre aujourd'hui ? | I19: {=INDEX('choix oral'!H:H,ROW())} -> Anglais | J19: =IF(I19<>"",CONCATENATE(H19," (intro ",I19,")"),H19) -> Que se passerait-il si le tigre à dents de sabre réapparaissait sur la terre aujourd'hui ? (intro Anglais) | K19: =INDEX('choix oral'!A:A,ROW()) -> 2 | L19: =IF(LEN(E19)>1,$R$2,"") -> 45785 | M19: =INDEX($T$2:$T$30,ROW()-MATCH(K19,$K:$K,0)+1,1) -> 0.46527778 | N19: =INDEX($R$17:$W$36,MATCH(K19,$R$17:$R$36),6) -> A04 | O19: =M19-$R$8 -> 0.45486111 | P19: {=INDEX('choix oral'!I:I,ROW())} -> non | R19: 2 | S19: =COUNTIF($K:$K,R19) -> 10 | T19: =IF(V19>0,QUOTIENT(U18,V19),"") -> 9 | U19: =IF(V19>0,U18-T19,"") -> 154 | V19: =V18-1 -> 17 | W19: A04 | X19: A02 | Y19: 1
A20: =IF('choix oral'!C20<>"",ROW()-1,"") -> 19 | B20: =COUNTIF(K$1:K20,K20) -> 10 | C20: =INDEX($R$17:Y$36,MATCH(K20,$R$17:$R$36),8) -> 1 | D20: =INDEX($R$17:Y$36,MATCH(K20,$R$17:$R$36),7) -> A02 | E20: {=INDEX('choix oral'!D:D,ROW())} -> CLAUS | F20: {=INDEX('choix oral'!E:E,ROW())} -> Madeline | G20: {=INDEX('choix oral'!F:F,ROW())} -> 36 | H20: {=INDEX('choix oral'!G:G,ROW())} -> Invention inutile : le parapluie pour chaussures | I20: {=INDEX('choix oral'!H:H,ROW())} -> Anglais | J20: =IF(I20<>"",CONCATENATE(H20," (intro ",I20,")"),H20) -> Invention inutile : le parapluie pour chaussures (intro Anglais) | K20: =INDEX('choix oral'!A:A,ROW()) -> 2 | L20: =IF(LEN(E20)>1,$R$2,"") -> 45785 | M20: =INDEX($T$2:$T$30,ROW()-MATCH(K20,$K:$K,0)+1,1) -> 0.47916667 | N20: =INDEX($R$17:$W$36,MATCH(K20,$R$17:$R$36),6) -> A04 | O20: =M20-$R$8 -> 0.46875 | P20: {=INDEX('choix oral'!I:I,ROW())} -> oui | R20: 3 | S20: =COUNTIF($K:$K,R20) -> 10 | T20: =IF(V20>0,QUOTIENT(U19,V20),"") -> 9 | U20: =IF(V20>0,U19-T20,"") -> 145 | V20: =V19-1 -> 16 | W20: A05 | X20: A02 | Y20: 1
A21: =IF('choix oral'!C21<>"",ROW()-1,"") -> 20 | B21: =COUNTIF(K$1:K21,K21) -> 1 | C21: =INDEX($R$17:Y$36,MATCH(K21,$R$17:$R$36),8) -> 1 | D21: =INDEX($R$17:Y$36,MATCH(K21,$R$17:$R$36),7) -> A02 | E21: {=INDEX('choix oral'!D:D,ROW())} -> CLETON | F21: {=INDEX('choix oral'!E:E,ROW())} -> Kenzo | G21: {=INDEX('choix oral'!F:F,ROW())} -> 36 | H21: {=INDEX('choix oral'!G:G,ROW())} -> Que se passerait-il si le tigre à dents de sabre réapparaissait sur la terre aujourd'hui ? | I21: {=INDEX('choix oral'!H:H,ROW())} -> Anglais | J21: =IF(I21<>"",CONCATENATE(H21," (intro ",I21,")"),H21) -> Que se passerait-il si le tigre à dents de sabre réapparaissait sur la terre aujourd'hui ? (intro Anglais) | K21: =INDEX('choix oral'!A:A,ROW()) -> 3 | L21: =IF(LEN(E21)>1,$R$2,"") -> 45785 | M21: =INDEX($T$2:$T$30,ROW()-MATCH(K21,$K:$K,0)+1,1) -> 0.34375 | N21: =INDEX($R$17:$W$36,MATCH(K21,$R$17:$R$36),6) -> A05 | O21: =M21-$R$8 -> 0.33333333 | P21: {=INDEX('choix oral'!I:I,ROW())} -> oui | R21: 4 | S21: =COUNTIF($K:$K,R21) -> 10 | T21: =IF(V21>0,QUOTIENT(U20,V21),"") -> 9 | U21: =IF(V21>0,U20-T21,"") -> 136 | V21: =V20-1 -> 15 | W21: A06 | X21: A02 | Y21: 1
A22: =IF('choix oral'!C22<>"",ROW()-1,"") -> 21 | B22: =COUNTIF(K$1:K22,K22) -> 2 | C22: =INDEX($R$17:Y$36,MATCH(K22,$R$17:$R$36),8) -> 1 | D22: =INDEX($R$17:Y$36,MATCH(K22,$R$17:$R$36),7) -> A02 | E22: {=INDEX('choix oral'!D:D,ROW())} -> COIRIER | F22: {=INDEX('choix oral'!E:E,ROW())} -> Léona | G22: {=INDEX('choix oral'!F:F,ROW())} -> 33 | H22: {=INDEX('choix oral'!G:G,ROW())} -> Développement de l’exploitation minière au Wakanda | I22: {=INDEX('choix oral'!H:H,ROW())} -> Anglais | J22: =IF(I22<>"",CONCATENATE(H22," (intro ",I22,")"),H22) -> Développement de l’exploitation minière au Wakanda (intro Anglais) | K22: =INDEX('choix oral'!A:A,ROW()) -> 3 | L22: =IF(LEN(E22)>1,$R$2,"") -> 45785 | M22: =INDEX($T$2:$T$30,ROW()-MATCH(K22,$K:$K,0)+1,1) -> 0.35763889 | N22: =INDEX($R$17:$W$36,MATCH(K22,$R$17:$R$36),6) -> A05 | O22: =M22-$R$8 -> 0.34722222 | P22: {=INDEX('choix oral'!I:I,ROW())} -> non | R22: 5 | S22: =COUNTIF($K:$K,R22) -> 10 | T22: =IF(V22>0,QUOTIENT(U21,V22),"") -> 9 | U22: =IF(V22>0,U21-T22,"") -> 127 | V22: =V21-1 -> 14 | W22: A07 | X22: A02 | Y22: 1
A23: =IF('choix oral'!C23<>"",ROW()-1,"") -> 22 | B23: =COUNTIF(K$1:K23,K23) -> 3 | C23: =INDEX($R$17:Y$36,MATCH(K23,$R$17:$R$36),8) -> 1 | D23: =INDEX($R$17:Y$36,MATCH(K23,$R$17:$R$36),7) -> A02 | E23: {=INDEX('choix oral'!D:D,ROW())} -> COMAS | F23: {=INDEX('choix oral'!E:E,ROW())} -> Mahe | G23: {=INDEX('choix oral'!F:F,ROW())} -> 34 | H23: {=INDEX('choix oral'!G:G,ROW())} -> Que se passerait-il si le tigre à dents de sabre réapparaissait sur la terre aujourd'hui ? | I23: {=INDEX('choix oral'!H:H,ROW())} -> Anglais | J23: =IF(I23<>"",CONCATENATE(H23," (intro ",I23,")"),H23) -> Que se passerait-il si le tigre à dents de sabre réapparaissait sur la terre aujourd'hui ? (intro Anglais) | K23: =INDEX('choix oral'!A:A,ROW()) -> 3 | L23: =IF(LEN(E23)>1,$R$2,"") -> 45785 | M23: =INDEX($T$2:$T$30,ROW()-MATCH(K23,$K:$K,0)+1,1) -> 0.37152778 | N23: =INDEX($R$17:$W$36,MATCH(K23,$R$17:$R$36),6) -> A05 | O23: =M23-$R$8 -> 0.36111111 | P23: {=INDEX('choix oral'!I:I,ROW())} -> non | R23: 6 | S23: =COUNTIF($K:$K,R23) -> 10 | T23: =IF(V23>0,QUOTIENT(U22,V23),"") -> 9 | U23: =IF(V23>0,U22-T23,"") -> 118 | V23: =V22-1 -> 13 | W23: A106 | X23: A104 | Y23: 1
A24: =IF('choix oral'!C24<>"",ROW()-1,"") -> 23 | B24: =COUNTIF(K$1:K24,K24) -> 4 | C24: =INDEX($R$17:Y$36,MATCH(K24,$R$17:$R$36),8) -> 1 | D24: =INDEX($R$17:Y$36,MATCH(K24,$R$17:$R$36),7) -> A02 | E24: {=INDEX('choix oral'!D:D,ROW())} -> CORDEL | F24: {=INDEX('choix oral'!E:E,ROW())} -> Lamine | G24: {=INDEX('choix oral'!F:F,ROW())} -> 32 | H24: {=INDEX('choix oral'!G:G,ROW())} -> Recherche et développement : recyclage des allumettes usagées | I24: {=INDEX('choix oral'!H:H,ROW())} -> Anglais | J24: =IF(I24<>"",CONCATENATE(H24," (intro ",I24,")"),H24) -> Recherche et développement : recyclage des allumettes usagées (intro Anglais) | K24: =INDEX('choix oral'!A:A,ROW()) -> 3 | L24: =IF(LEN(E24)>1,$R$2,"") -> 45785 | M24: =INDEX($T$2:$T$30,ROW()-MATCH(K24,$K:$K,0)+1,1) -> 0.38541667 | N24: =INDEX($R$17:$W$36,MATCH(K24,$R$17:$R$36),6) -> A05 | O24: =M24-$R$8 -> 0.375 | P24: {=INDEX('choix oral'!I:I,ROW())} -> oui | R24: 7 | S24: =COUNTIF($K:$K,R24) -> 10 | T24: =IF(V24>0,QUOTIENT(U23,V24),"") -> 9 | U24: =IF(V24>0,U23-T24,"") -> 109 | V24: =V23-1 -> 12 | W24: A108 | X24: A104 | Y24: 1
A25: =IF('choix oral'!C25<>"",ROW()-1,"") -> 24 | B25: =COUNTIF(K$1:K25,K25) -> 5 | C25: =INDEX($R$17:Y$36,MATCH(K25,$R$17:$R$36),8) -> 1 | D25: =INDEX($R$17:Y$36,MATCH(K25,$R$17:$R$36),7) -> A02 | E25: {=INDEX('choix oral'!D:D,ROW())} -> COX | F25: {=INDEX('choix oral'!E:E,ROW())} -> Léni | G25: {=INDEX('choix oral'!F:F,ROW())} -> 31 | H25: {=INDEX('choix oral'!G:G,ROW())} -> Une théorie du complot : le petit-pois peut-il se cloner dans nos cerveaux ? | I25: {=INDEX('choix oral'!H:H,ROW())} -> Anglais | J25: =IF(I25<>"",CONCATENATE(H25," (intro ",I25,")"),H25) -> Une théorie du complot : le petit-pois peut-il se cloner dans nos cerveaux ? (intro Anglais) | K25: =INDEX('choix oral'!A:A,ROW()) -> 3 | L25: =IF(LEN(E25)>1,$R$2,"") -> 45785 | M25: =INDEX($T$2:$T$30,ROW()-MATCH(K25,$K:$K,0)+1,1) -> 0.39930556 | N25: =INDEX($R$17:$W$36,MATCH(K25,$R$17:$R$36),6) -> A05 | O25: =M25-$R$8 -> 0.38888889 | P25: {=INDEX('choix oral'!I:I,ROW())} -> non | R25: 8 | S25: =COUNTIF($K:$K,R25) -> 10 | T25: =IF(V25>0,QUOTIENT(U24,V25),"") -> 9 | U25: =IF(V25>0,U24-T25,"") -> 100 | V25: =V24-1 -> 11 | W25: A110 | X25: A104 | Y25: 1
A26: =IF('choix oral'!C26<>"",ROW()-1,"") -> 25 | B26: =COUNTIF(K$1:K26,K26) -> 6 | C26: =INDEX($R$17:Y$36,MATCH(K26,$R$17:$R$36),8) -> 1 | D26: =INDEX($R$17:Y$36,MATCH(K26,$R$17:$R$36),7) -> A02 | E26: {=INDEX('choix oral'!D:D,ROW())} -> DECOUDU | F26: {=INDEX('choix oral'!E:E,ROW())} -> Coline | G26: {=INDEX('choix oral'!F:F,ROW())} -> 35 | H26: {=INDEX('choix oral'!G:G,ROW())} -> Une théorie du complot : le petit-pois peut-il se cloner dans nos cerveaux ? | I26: {=INDEX('choix oral'!H:H,ROW())} -> Anglais | J26: =IF(I26<>"",CONCATENATE(H26," (intro ",I26,")"),H26) -> Une théorie du complot : le petit-pois peut-il se cloner dans nos cerveaux ? (intro Anglais) | K26: =INDEX('choix oral'!A:A,ROW()) -> 3 | L26: =IF(LEN(E26)>1,$R$2,"") -> 45785 | M26: =INDEX($T$2:$T$30,ROW()-MATCH(K26,$K:$K,0)+1,1) -> 0.42361111 | N26: =INDEX($R$17:$W$36,MATCH(K26,$R$17:$R$36),6) -> A05 | O26: =M26-$R$8 -> 0.41319444 | P26: {=INDEX('choix oral'!I:I,ROW())} -> non | R26: 9 | S26: =COUNTIF($K:$K,R26) -> 9 | T26: =IF(V26>0,QUOTIENT(U25,V26),"") -> 10 | U26: =IF(V26>0,U25-T26,"") -> 90 | V26: =V25-1 -> 10 | W26: A112 | X26: A104 | Y26: 1
A27: =IF('choix oral'!C27<>"",ROW()-1,"") -> 26 | B27: =COUNTIF(K$1:K27,K27) -> 7 | C27: =INDEX($R$17:Y$36,MATCH(K27,$R$17:$R$36),8) -> 1 | D27: =INDEX($R$17:Y$36,MATCH(K27,$R$17:$R$36),7) -> A02 | E27: {=INDEX('choix oral'!D:D,ROW())} -> DELETRAZ | F27: {=INDEX('choix oral'!E:E,ROW())} -> Louka | G27: {=INDEX('choix oral'!F:F,ROW())} -> 36 | H27: {=INDEX('choix oral'!G:G,ROW())} -> Approche photographique des vaisseaux extraterrestres déguisés en nuages lenticulaires. | I27: {=INDEX('choix oral'!H:H,ROW())} -> Anglais | J27: =IF(I27<>"",CONCATENATE(H27," (intro ",I27,")"),H27) -> Approche photographique des vaisseaux extraterrestres déguisés en nuages lenticulaires. (intro Anglais) | K27: =INDEX('choix oral'!A:A,ROW()) -> 3 | L27: =IF(LEN(E27)>1,$R$2,"") -> 45785 | M27: =INDEX($T$2:$T$30,ROW()-MATCH(K27,$K:$K,0)+1,1) -> 0.4375 | N27: =INDEX($R$17:$W$36,MATCH(K27,$R$17:$R$36),6) -> A05 | O27: =M27-$R$8 -> 0.42708333 | P27: {=INDEX('choix oral'!I:I,ROW())} -> oui | R27: 10 | S27: =COUNTIF($K:$K,R27) -> 9 | T27: =IF(V27>0,QUOTIENT(U26,V27),"") -> 10 | U27: =IF(V27>0,U26-T27,"") -> 80 | V27: =V26-1 -> 9 | W27: B04 | X27: B02 | Y27: 2
A28: =IF('choix oral'!C28<>"",ROW()-1,"") -> 27 | B28: =COUNTIF(K$1:K28,K28) -> 8 | C28: =INDEX($R$17:Y$36,MATCH(K28,$R$17:$R$36),8) -> 1 | D28: =INDEX($R$17:Y$36,MATCH(K28,$R$17:$R$36),7) -> A02 | E28: {=INDEX('choix oral'!D:D,ROW())} -> DESTIN | F28: {=INDEX('choix oral'!E:E,ROW())} -> Nelly | G28: {=INDEX('choix oral'!F:F,ROW())} -> 37 | H28: {=INDEX('choix oral'!G:G,ROW())} -> Recherche et développement : recyclage des allumettes usagées | I28: {=INDEX('choix oral'!H:H,ROW())} -> Anglais | J28: =IF(I28<>"",CONCATENATE(H28," (intro ",I28,")"),H28) -> Recherche et développement : recyclage des allumettes usagées (intro Anglais) | K28: =INDEX('choix oral'!A:A,ROW()) -> 3 | L28: =IF(LEN(E28)>1,$R$2,"") -> 45785 | M28: =INDEX($T$2:$T$30,ROW()-MATCH(K28,$K:$K,0)+1,1) -> 0.45138889 | N28: =INDEX($R$17:$W$36,MATCH(K28,$R$17:$R$36),6) -> A05 | O28: =M28-$R$8 -> 0.44097222 | P28: {=INDEX('choix oral'!I:I,ROW())} -> oui | R28: 11 | S28: =COUNTIF($K:$K,R28) -> 9 | T28: =IF(V28>0,QUOTIENT(U27,V28),"") -> 10 | U28: =IF(V28>0,U27-T28,"") -> 70 | V28: =V27-1 -> 8 | W28: B09 | X28: B02 | Y28: 2
A29: =IF('choix oral'!C29<>"",ROW()-1,"") -> 28 | B29: =COUNTIF(K$1:K29,K29) -> 9 | C29: =INDEX($R$17:Y$36,MATCH(K29,$R$17:$R$36),8) -> 1 | D29: =INDEX($R$17:Y$36,MATCH(K29,$R$17:$R$36),7) -> A02 | E29: {=INDEX('choix oral'!D:D,ROW())} -> DEVISMES | F29: {=INDEX('choix oral'!E:E,ROW())} -> Sara | G29: {=INDEX('choix oral'!F:F,ROW())} -> 34 | H29: {=INDEX('choix oral'!G:G,ROW())} -> Que se passerait-il si le tigre à dents de sabre réapparaissait sur la terre aujourd'hui ? | I29: {=INDEX('choix oral'!H:H,ROW())} -> Anglais | J29: =IF(I29<>"",CONCATENATE(H29," (intro ",I29,")"),H29) -> Que se passerait-il si le tigre à dents de sabre réapparaissait sur la terre aujourd'hui ? (intro Anglais) | K29: =INDEX('choix oral'!A:A,ROW()) -> 3 | L29: =IF(LEN(E29)>1,$R$2,"") -> 45785 | M29: =INDEX($T$2:$T$30,ROW()-MATCH(K29,$K:$K,0)+1,1) -> 0.46527778 | N29: =INDEX($R$17:$W$36,MATCH(K29,$R$17:$R$36),6) -> A05 | O29: =M29-$R$8 -> 0.45486111 | P29: {=INDEX('choix oral'!I:I,ROW())} -> oui | R29: 12 | S29: =COUNTIF($K:$K,R29) -> 9 | T29: =IF(V29>0,QUOTIENT(U28,V29),"") -> 10 | U29: =IF(V29>0,U28-T29,"") -> 60 | V29: =V28-1 -> 7 | W29: B08 | X29: B02 | Y29: 2
A30: =IF('choix oral'!C30<>"",ROW()-1,"") -> 29 | B30: =COUNTIF(K$1:K30,K30) -> 10 | C30: =INDEX($R$17:Y$36,MATCH(K30,$R$17:$R$36),8) -> 1 | D30: =INDEX($R$17:Y$36,MATCH(K30,$R$17:$R$36),7) -> A02 | E30: {=INDEX('choix oral'!D:D,ROW())} -> DOMANGE | F30: {=INDEX('choix oral'!E:E,ROW())} -> Cyprien | G30: {=INDEX('choix oral'!F:F,ROW())} -> 35 | H30: {=INDEX('choix oral'!G:G,ROW())} -> Une théorie du complot : le petit-pois peut-il se cloner dans nos cerveaux ? | I30: {=INDEX('choix oral'!H:H,ROW())} -> Anglais | J30: =IF(I30<>"",CONCATENATE(H30," (intro ",I30,")"),H30) -> Une théorie du complot : le petit-pois peut-il se cloner dans nos cerveaux ? (intro Anglais) | K30: =INDEX('choix oral'!A:A,ROW()) -> 3 | L30: =IF(LEN(E30)>1,$R$2,"") -> 45785 | M30: =INDEX($T$2:$T$30,ROW()-MATCH(K30,$K:$K,0)+1,1) -> 0.47916667 | N30: =INDEX($R$17:$W$36,MATCH(K30,$R$17:$R$36),6) -> A05 | O30: =M30-$R$8 -> 0.46875 | P30: {=INDEX('choix oral'!I:I,ROW())} -> non | R30: 13 | S30: =COUNTIF($K:$K,R30) -> 9 | T30: =IF(V30>0,QUOTIENT(U29,V30),"") -> 10 | U30: =IF(V30>0,U29-T30,"") -> 50 | V30: =V29-1 -> 6 | W30: B11 | X30: B02 | Y30: 2
... A35: =IF('choix oral'!C35<>"",ROW()-1,"") -> 34 | B35: =COUNTIF(K$1:K35,K35) -> 5 | C35: =INDEX($R$17:Y$36,MATCH(K35,$R$17:$R$36),8) -> 1 | D35: =INDEX($R$17:Y$36,MATCH(K35,$R$17:$R$36),7) -> A02 | E35: {=INDEX('choix oral'!D:D,ROW())} -> GALOIS | F35: {=INDEX('choix oral'!E:E,ROW())} -> Lenny | G35: {=INDEX('choix oral'!F:F,ROW())} -> 37 | H35: {=INDEX('choix oral'!G:G,ROW())} -> Recherche et développement : recyclage des allumettes usagées | I35: {=INDEX('choix oral'!H:H,ROW())} -> Anglais | J35: =IF(I35<>"",CONCATENATE(H35," (intro ",I35,")"),H35) -> Recherche et développement : recyclage des allumettes usagées (intro Anglais) | K35: =INDEX('choix oral'!A:A,ROW()) -> 4 | L35: =IF(LEN(E35)>1,$R$2,"") -> 45785 | M35: =INDEX($T$2:$T$30,ROW()-MATCH(K35,$K:$K,0)+1,1) -> 0.39930556 | N35: =INDEX($R$17:$W$36,MATCH(K35,$R$17:$R$36),6) -> A06 | O35: =M35-$R$8 -> 0.38888889 | P35: {=INDEX('choix oral'!I:I,ROW())} -> oui | R35: 18 | S35: =COUNTIF($K:$K,R35) -> 10 | T35: =IF(V35>0,QUOTIENT(U34,V35),"") -> 10 | U35: =IF(V35>0,U34-T35,"") -> 0 | V35: =V34-1 -> 1 | W35: B107 | X35: B101 | Y35: 2
A36: =IF('choix oral'!C36<>"",ROW()-1,"") -> 35 | B36: =COUNTIF(K$1:K36,K36) -> 6 | C36: =INDEX($R$17:Y$36,MATCH(K36,$R$17:$R$36),8) -> 1 | D36: =INDEX($R$17:Y$36,MATCH(K36,$R$17:$R$36),7) -> A02 | E36: {=INDEX('choix oral'!D:D,ROW())} -> GASCON | F36: {=INDEX('choix oral'!E:E,ROW())} -> Emilien | G36: {=INDEX('choix oral'!F:F,ROW())} -> 34 | H36: {=INDEX('choix oral'!G:G,ROW())} -> Une théorie du complot : le petit-pois peut-il se cloner dans nos cerveaux ? | I36: {=INDEX('choix oral'!H:H,ROW())} -> Anglais | J36: =IF(I36<>"",CONCATENATE(H36," (intro ",I36,")"),H36) -> Une théorie du complot : le petit-pois peut-il se cloner dans nos cerveaux ? (intro Anglais) | K36: =INDEX('choix oral'!A:A,ROW()) -> 4 | L36: =IF(LEN(E36)>1,$R$2,"") -> 45785 | M36: =INDEX($T$2:$T$30,ROW()-MATCH(K36,$K:$K,0)+1,1) -> 0.42361111 | N36: =INDEX($R$17:$W$36,MATCH(K36,$R$17:$R$36),6) -> A06 | O36: =M36-$R$8 -> 0.41319444 | P36: {=INDEX('choix oral'!I:I,ROW())} -> non | R36: 19 | S36: =COUNTIF($K:$K,R36) -> 0 | T36: =IF(V36>0,QUOTIENT(U35,V36),"") | U36: =IF(V36>0,U35-T36,"") | V36: =V35-1 -> 0
A37: =IF('choix oral'!C37<>"",ROW()-1,"") -> 36 | B37: =COUNTIF(K$1:K37,K37) -> 7 | C37: =INDEX($R$17:Y$36,MATCH(K37,$R$17:$R$36),8) -> 1 | D37: =INDEX($R$17:Y$36,MATCH(K37,$R$17:$R$36),7) -> A02 | E37: {=INDEX('choix oral'!D:D,ROW())} -> GIORDAN | F37: {=INDEX('choix oral'!E:E,ROW())} -> Jana | G37: {=INDEX('choix oral'!F:F,ROW())} -> 37 | H37: {=INDEX('choix oral'!G:G,ROW())} -> Recherche et développement : recyclage des allumettes usagées | I37: {=INDEX('choix oral'!H:H,ROW())} -> Anglais | J37: =IF(I37<>"",CONCATENATE(H37," (intro ",I37,")"),H37) -> Recherche et développement : recyclage des allumettes usagées (intro Anglais) | K37: =INDEX('choix oral'!A:A,ROW()) -> 4 | L37: =IF(LEN(E37)>1,$R$2,"") -> 45785 | M37: =INDEX($T$2:$T$30,ROW()-MATCH(K37,$K:$K,0)+1,1) -> 0.4375 | N37: =INDEX($R$17:$W$36,MATCH(K37,$R$17:$R$36),6) -> A06 | O37: =M37-$R$8 -> 0.42708333 | P37: {=INDEX('choix oral'!I:I,ROW())} -> non
A38: =IF('choix oral'!C38<>"",ROW()-1,"") -> 37 | B38: =COUNTIF(K$1:K38,K38) -> 8 | C38: =INDEX($R$17:Y$36,MATCH(K38,$R$17:$R$36),8) -> 1 | D38: =INDEX($R$17:Y$36,MATCH(K38,$R$17:$R$36),7) -> A02 | E38: {=INDEX('choix oral'!D:D,ROW())} -> GOUSSET | F38: {=INDEX('choix oral'!E:E,ROW())} -> Mehmet | G38: {=INDEX('choix oral'!F:F,ROW())} -> 33 | H38: {=INDEX('choix oral'!G:G,ROW())} -> Recherche et développement : recyclage des allumettes usagées | I38: {=INDEX('choix oral'!H:H,ROW())} -> Anglais | J38: =IF(I38<>"",CONCATENATE(H38," (intro ",I38,")"),H38) -> Recherche et développement : recyclage des allumettes usagées (intro Anglais) | K38: =INDEX('choix oral'!A:A,ROW()) -> 4 | L38: =IF(LEN(E38)>1,$R$2,"") -> 45785 | M38: =INDEX($T$2:$T$30,ROW()-MATCH(K38,$K:$K,0)+1,1) -> 0.45138889 | N38: =INDEX($R$17:$W$36,MATCH(K38,$R$17:$R$36),6) -> A06 | O38: =M38-$R$8 -> 0.44097222 | P38: {=INDEX('choix oral'!I:I,ROW())} -> non | R38: Contrôle | S38: =SUM(S18:S36) -> 172 | T38: =SUM(T18:T36) -> 172
A39: =IF('choix oral'!C39<>"",ROW()-1,"") -> 38 | B39: =COUNTIF(K$1:K39,K39) -> 9 | C39: =INDEX($R$17:Y$36,MATCH(K39,$R$17:$R$36),8) -> 1 | D39: =INDEX($R$17:Y$36,MATCH(K39,$R$17:$R$36),7) -> A02 | E39: {=INDEX('choix oral'!D:D,ROW())} -> GRIVAULT | F39: {=INDEX('choix oral'!E:E,ROW())} -> Solène | G39: {=INDEX('choix oral'!F:F,ROW())} -> 37 | H39: {=INDEX('choix oral'!G:G,ROW())} -> Approche photographique des vaisseaux extraterrestres déguisés en nuages lenticulaires. | I39: {=INDEX('choix oral'!H:H,ROW())} -> Anglais | J39: =IF(I39<>"",CONCATENATE(H39," (intro ",I39,")"),H39) -> Approche photographique des vaisseaux extraterrestres déguisés en nuages lenticulaires. (intro Anglais) | K39: =INDEX('choix oral'!A:A,ROW()) -> 4 | L39: =IF(LEN(E39)>1,$R$2,"") -> 45785 | M39: =INDEX($T$2:$T$30,ROW()-MATCH(K39,$K:$K,0)+1,1) -> 0.46527778 | N39: =INDEX($R$17:$W$36,MATCH(K39,$R$17:$R$36),6) -> A06 | O39: =M39-$R$8 -> 0.45486111 | P39: {=INDEX('choix oral'!I:I,ROW())} -> non
A40: =IF('choix oral'!C40<>"",ROW()-1,"") -> 39 | B40: =COUNTIF(K$1:K40,K40) -> 10 | C40: =INDEX($R$17:Y$36,MATCH(K40,$R$17:$R$36),8) -> 1 | D40: =INDEX($R$17:Y$36,MATCH(K40,$R$17:$R$36),7) -> A02 | E40: {=INDEX('choix oral'!D:D,ROW())} -> HAJJI | F40: {=INDEX('choix oral'!E:E,ROW())} -> Mateo | G40: {=INDEX('choix oral'!F:F,ROW())} -> 36 | H40: {=INDEX('choix oral'!G:G,ROW())} -> Que se passerait-il si le tigre à dents de sabre réapparaissait sur la terre aujourd'hui ? | I40: {=INDEX('choix oral'!H:H,ROW())} -> Anglais | J40: =IF(I40<>"",CONCATENATE(H40," (intro ",I40,")"),H40) -> Que se passerait-il si le tigre à dents de sabre réapparaissait sur la terre aujourd'hui ? (intro Anglais) | K40: =INDEX('choix oral'!A:A,ROW()) -> 4 | L40: =IF(LEN(E40)>1,$R$2,"") -> 45785 | M40: =INDEX($T$2:$T$30,ROW()-MATCH(K40,$K:$K,0)+1,1) -> 0.47916667 | N40: =INDEX($R$17:$W$36,MATCH(K40,$R$17:$R$36),6) -> A06 | O40: =M40-$R$8 -> 0.46875 | P40: {=INDEX('choix oral'!I:I,ROW())} -> non
A41: =IF('choix oral'!C41<>"",ROW()-1,"") -> 40 | B41: =COUNTIF(K$1:K41,K41) -> 1 | C41: =INDEX($R$17:Y$36,MATCH(K41,$R$17:$R$36),8) -> 1 | D41: =INDEX($R$17:Y$36,MATCH(K41,$R$17:$R$36),7) -> A02 | E41: {=INDEX('choix oral'!D:D,ROW())} -> HECKEL | F41: {=INDEX('choix oral'!E:E,ROW())} -> Léon | G41: {=INDEX('choix oral'!F:F,ROW())} -> 35 | H41: {=INDEX('choix oral'!G:G,ROW())} -> Une théorie du complot : le petit-pois peut-il se cloner dans nos cerveaux ? | I41: {=INDEX('choix oral'!H:H,ROW())} -> Anglais | J41: =IF(I41<>"",CONCATENATE(H41," (intro ",I41,")"),H41) -> Une théorie du complot : le petit-pois peut-il se cloner dans nos cerveaux ? (intro Anglais) | K41: =INDEX('choix oral'!A:A,ROW()) -> 5 | L41: =IF(LEN(E41)>1,$R$2,"") -> 45785 | M41: =INDEX($T$2:$T$30,ROW()-MATCH(K41,$K:$K,0)+1,1) -> 0.34375 | N41: =INDEX($R$17:$W$36,MATCH(K41,$R$17:$R$36),6) -> A07 | O41: =M41-$R$8 -> 0.33333333 | P41: {=INDEX('choix oral'!I:I,ROW())} -> non
A42: =IF('choix oral'!C42<>"",ROW()-1,"") -> 41 | B42: =COUNTIF(K$1:K42,K42) -> 2 | C42: =INDEX($R$17:Y$36,MATCH(K42,$R$17:$R$36),8) -> 1 | D42: =INDEX($R$17:Y$36,MATCH(K42,$R$17:$R$36),7) -> A02 | E42: {=INDEX('choix oral'!D:D,ROW())} -> HERMELINE | F42: {=INDEX('choix oral'!E:E,ROW())} -> Soumaya | G42: {=INDEX('choix oral'!F:F,ROW())} -> 31 | H42: {=INDEX('choix oral'!G:G,ROW())} -> Que se passerait-il si le tigre à dents de sabre réapparaissait sur la terre aujourd'hui ? | I42: {=INDEX('choix oral'!H:H,ROW())} -> Anglais | J42: =IF(I42<>"",CONCATENATE(H42," (intro ",I42,")"),H42) -> Que se passerait-il si le tigre à dents de sabre réapparaissait sur la terre aujourd'hui ? (intro Anglais) | K42: =INDEX('choix oral'!A:A,ROW()) -> 5 | L42: =IF(LEN(E42)>1,$R$2,"") -> 45785 | M42: =INDEX($T$2:$T$30,ROW()-MATCH(K42,$K:$K,0)+1,1) -> 0.35763889 | N42: =INDEX($R$17:$W$36,MATCH(K42,$R$17:$R$36),6) -> A07 | O42: =M42-$R$8 -> 0.34722222 | P42: {=INDEX('choix oral'!I:I,ROW())} -> non
A43: =IF('choix oral'!C43<>"",ROW()-1,"") -> 42 | B43: =COUNTIF(K$1:K43,K43) -> 3 | C43: =INDEX($R$17:Y$36,MATCH(K43,$R$17:$R$36),8) -> 1 | D43: =INDEX($R$17:Y$36,MATCH(K43,$R$17:$R$36),7) -> A02 | E43: {=INDEX('choix oral'!D:D,ROW())} -> HODIN | F43: {=INDEX('choix oral'!E:E,ROW())} -> Aliya | G43: {=INDEX('choix oral'!F:F,ROW())} -> 31 | H43: {=INDEX('choix oral'!G:G,ROW())} -> Recherche et développement : recyclage des allumettes usagées | I43: {=INDEX('choix oral'!H:H,ROW())} -> Anglais | J43: =IF(I43<>"",CONCATENATE(H43," (intro ",I43,")"),H43) -> Recherche et développement : recyclage des allumettes usagées (intro Anglais) | K43: =INDEX('choix oral'!A:A,ROW()) -> 5 | L43: =IF(LEN(E43)>1,$R$2,"") -> 45785 | M43: =INDEX($T$2:$T$30,ROW()-MATCH(K43,$K:$K,0)+1,1) -> 0.37152778 | N43: =INDEX($R$17:$W$36,MATCH(K43,$R$17:$R$36),6) -> A07 | O43: =M43-$R$8 -> 0.36111111 | P43: {=INDEX('choix oral'!I:I,ROW())} -> non
A44: =IF('choix oral'!C44<>"",ROW()-1,"") -> 43 | B44: =COUNTIF(K$1:K44,K44) -> 4 | C44: =INDEX($R$17:Y$36,MATCH(K44,$R$17:$R$36),8) -> 1 | D44: =INDEX($R$17:Y$36,MATCH(K44,$R$17:$R$36),7) -> A02 | E44: {=INDEX('choix oral'!D:D,ROW())} -> JAEGLE | F44: {=INDEX('choix oral'!E:E,ROW())} -> Sabri | G44: {=INDEX('choix oral'!F:F,ROW())} -> 31 | H44: {=INDEX('choix oral'!G:G,ROW())} -> Cuisine du monde : la soupe de caillou | I44: {=INDEX('choix oral'!H:H,ROW())} -> Anglais | J44: =IF(I44<>"",CONCATENATE(H44," (intro ",I44,")"),H44) -> Cuisine du monde : la soupe de caillou (intro Anglais) | K44: =INDEX('choix oral'!A:A,ROW()) -> 5 | L44: =IF(LEN(E44)>1,$R$2,"") -> 45785 | M44: =INDEX($T$2:$T$30,ROW()-MATCH(K44,$K:$K,0)+1,1) -> 0.38541667 | N44: =INDEX($R$17:$W$36,MATCH(K44,$R$17:$R$36),6) -> A07 | O44: =M44-$R$8 -> 0.375 | P44: {=INDEX('choix oral'!I:I,ROW())} -> non
...

Sheet choix oral
A1: JURY | B1: RG | C1: TYPE JURY | D1: NOM | E1: PRENOM | F1: Classe | G1: Oral DNB | H1: Intro LV | I1: Diaporama
A2: 1 | B2: 1 | C2: 1 | D2: AUBERGER | E2: Gaspard | F2: 34 | G2: Invention inutile : le parapluie pour chaussures | H2: Allemand | I2: oui
A3: 1 | B3: 1 | C3: 1 | D3: COMBETTES | E3: Sean | F3: 34 | G3: Approche photographique des vaisseaux extraterrestres déguisés en nuages lenticulaires. | H3: Allemand | I3: oui
A4: 1 | B4: 1 | C4: 1 | D4: GABARRE | E4: Fatou | F4: 34 | G4: Musique : détails sur la partition des chutes du Niagara | H4: Allemand | I4: oui
A5: 1 | B5: 1 | C5: 1 | D5: LACHAUD | E5: Maher | F5: 36 | G5: Approche photographique des vaisseaux extraterrestres déguisés en nuages lenticulaires. | H5: Allemand | I5: non
A6: 1 | B6: 1 | C6: 2 | D6: ABAIDIA | E6: Alix | F6: 35 | G6: Une théorie du complot : le petit-pois peut-il se cloner dans nos cerveaux ? | H6: Anglais | I6: oui
A7: 1 | B7: 1 | C7: 2 | D7: ABED | E7: Cyrielle | F7: 32 | G7: Une théorie du complot : le petit-pois peut-il se cloner dans nos cerveaux ? | H7: Anglais | I7: oui
A8: 1 | B8: 1 | C8: 2 | D8: ADJAL | E8: Mike | F8: 32 | G8: Cuisine du monde : la soupe de caillou | H8: Anglais | I8: oui
A9: 1 | B9: 1 | C9: 2 | D9: AMICO | E9: Grégoire | F9: 31 | G9: Recherche et développement : recyclage des allumettes usagées | H9: Anglais | I9: non
A10: 1 | B10: 1 | C10: 2 | D10: ANANI | E10: Sami | F10: 34 | G10: Une théorie du complot : le petit-pois peut-il se cloner dans nos cerveaux ? | H10: Anglais | I10: oui
A11: 2 | B11: 1 | C11: 2 | D11: AUBRUN | E11: Louka | F11: 35 | G11: Une théorie du complot : le petit-pois peut-il se cloner dans nos cerveaux ? | H11: Anglais | I11: oui
A12: 2 | B12: 1 | C12: 2 | D12: AVELLANEDA | E12: Ishaq | F12: 36 | G12: Que se passerait-il si le tigre à dents de sabre réapparaissait sur la terre aujourd'hui ? | H12: Anglais | I12: oui
A13: 2 | B13: 1 | C13: 2 | D13: AVIGNON | E13: Angèle | F13: 35 | G13: Une théorie du complot : le petit-pois peut-il se cloner dans nos cerveaux ? | H13: Anglais | I13: non
... A83: 9 | B83: 1 | C83: 4 | D83: MAAZOUZ | E83: Isaac | F83: 33 | G83: Cuisine du monde : la soupe de caillou | H83: Italien | I83: oui
A84: 9 | B84: 1 | C84: 5 | D84: AILLERIE | E84: Nahil | F84: 37 | G84: Que se passerait-il si le tigre à dents de sabre réapparaissait sur la terre aujourd'hui ? | I84: oui
A85: 9 | B85: 1 | C85: 5 | D85: AMIEL | E85: Yaël | F85: 34 | G85: Recherche et développement : recyclage des allumettes usagées | I85: non
A86: 9 | B86: 1 | C86: 5 | D86: ANNEROSE | E86: Thalya | F86: 37 | G86: Agriculture : la limace comme substitut aux tomates cerises | I86: non
A87: 9 | B87: 1 | C87: 5 | D87: ATTALAH | E87: Isabelle | F87: 33 | G87: Que se passerait-il si le tigre à dents de sabre réapparaissait sur la terre aujourd'hui ? | I87: non
A88: 9 | B88: 1 | C88: 5 | D88: BALDI | E88: Alizée | F88: 36 | G88: Cuisine du monde : la soupe de caillou | I88: oui
A89: 9 | B89: 100 | C89: 5 | D89: BARAS | E89: Rayane | F89: 32 | G89: Recherche et développement : recyclage des allumettes usagées | I89: non
A90: 10 | B90: 1 | C90: 5 | D90: BARNABE | E90: Amaya | F90: 33 | G90: Que se passerait-il si le tigre à dents de sabre réapparaissait sur la terre aujourd'hui ? | I90: non
A91: 10 | B91: 1 | C91: 5 | D91: BARREY | E91: Loïs | F91: 31 | G91: La phobie des pieds de chaise et son traitement. | I91: non
A92: 10 | B92: 1 | C92: 5 | D92: BASTOS | E92: Victoire | F92: 37 | G92: Recherche et développement : recyclage des allumettes usagées | I92: oui
A93: 10 | B93: 1 | C93: 5 | D93: BELLAVIA | E93: Taïna | F93: 36 | G93: Que se passerait-il si le tigre à dents de sabre réapparaissait sur la terre aujourd'hui ? | I93: oui
A94: 10 | B94: 1 | C94: 5 | D94: BENOTMANE | E94: Alana | F94: 36 | G94: Musique : détails sur la partition des chutes du Niagara | I94: non
A95: 10 | B95: 1 | C95: 5 | D95: BIGAUD | E95: Lison | F95: 34 | G95: Que se passerait-il si le tigre à dents de sabre réapparaissait sur la terre aujourd'hui ? | I95: oui
... A173: 18 | B173: 100 | C173: 5 | D173: TABARD | E173: Keyla | F173: 37 | G173: Recherche et développement : recyclage des allumettes usagées | I173: non

Sheet choix sujets jurys
A1: Oral DNB : choix des sujets selon les jurys
B2: Jurys
A3: Sujets | B3: 1 | C3: 2 | D3: 3 | E3: 4 | F3: 5 | G3: 6 | H3: 7 | I3: 8 | J3: 9 | K3: 10 | L3: 11 | M3: 12 | N3: 13 | O3: 14 | P3: 15 | Q3: 16 | R3: 17 | S3: 18
A4: Que se passerait-il si le tigre à dents de sabre réapparaissait sur la terre aujourd'hui ? | B4: =IF(COUNTIFS('feuille travail'!$H:$H,$A4,'feuille travail'!$K:$K,B$3)>0,"x","") | C4: =IF(COUNTIFS('feuille travail'!$H:$H,$A4,'feuille travail'!$K:$K,C$3)>0,"x","") -> x | D4: =IF(COUNTIFS('feuille travail'!$H:$H,$A4,'feuille travail'!$K:$K,D$3)>0,"x","") -> x | E4: =IF(COUNTIFS('feuille travail'!$H:$H,$A4,'feuille travail'!$K:$K,E$3)>0,"x","") -> x | F4: =IF(COUNTIFS('feuille travail'!$H:$H,$A4,'feuille travail'!$K:$K,F$3)>0,"x","") -> x | G4: =IF(COUNTIFS('feuille travail'!$H:$H,$A4,'feuille travail'!$K:$K,G$3)>0,"x","") -> x | H4: =IF(COUNTIFS('feuille travail'!$H:$H,$A4,'feuille travail'!$K:$K,H$3)>0,"x","") -> x | I4: =IF(COUNTIFS('feuille travail'!$H:$H,$A4,'feuille travail'!$K:$K,I$3)>0,"x","") -> x | ... S4: =IF(COUNTIFS('feuille travail'!$H:$H,$A4,'feuille travail'!$K:$K,S$3)>0,"x","") -> x
A5: Une théorie du complot : le petit-pois peut-il se cloner dans nos cerveaux ? | B5: =IF(COUNTIFS('feuille travail'!$H:$H,$A5,'feuille travail'!$K:$K,B$3)>0,"x","") -> x | C5: =IF(COUNTIFS('feuille travail'!$H:$H,$A5,'feuille travail'!$K:$K,C$3)>0,"x","") -> x | D5: =IF(COUNTIFS('feuille travail'!$H:$H,$A5,'feuille travail'!$K:$K,D$3)>0,"x","") -> x | E5: =IF(COUNTIFS('feuille travail'!$H:$H,$A5,'feuille travail'!$K:$K,E$3)>0,"x","") -> x | F5: =IF(COUNTIFS('feuille travail'!$H:$H,$A5,'feuille travail'!$K:$K,F$3)>0,"x","") -> x | G5: =IF(COUNTIFS('feuille travail'!$H:$H,$A5,'feuille travail'!$K:$K,G$3)>0,"x","") | H5: =IF(COUNTIFS('feuille travail'!$H:$H,$A5,'feuille travail'!$K:$K,H$3)>0,"x","") | I5: =IF(COUNTIFS('feuille travail'!$H:$H,$A5,'feuille travail'!$K:$K,I$3)>0,"x","") | ... S5: =IF(COUNTIFS('feuille travail'!$H:$H,$A5,'feuille travail'!$K:$K,S$3)>0,"x","") -> x
A6: La phobie des pieds de chaise et son traitement. | B6: =IF(COUNTIFS('feuille travail'!$H:$H,$A6,'feuille travail'!$K:$K,B$3)>0,"x","") | C6: =IF(COUNTIFS('feuille travail'!$H:$H,$A6,'feuille travail'!$K:$K,C$3)>0,"x","") | D6: =IF(COUNTIFS('feuille travail'!$H:$H,$A6,'feuille travail'!$K:$K,D$3)>0,"x","") | E6: =IF(COUNTIFS('feuille travail'!$H:$H,$A6,'feuille travail'!$K:$K,E$3)>0,"x","") | F6: =IF(COUNTIFS('feuille travail'!$H:$H,$A6,'feuille travail'!$K:$K,F$3)>0,"x","") | G6: =IF(COUNTIFS('feuille travail'!$H:$H,$A6,'feuille travail'!$K:$K,G$3)>0,"x","") -> x | H6: =IF(COUNTIFS('feuille travail'!$H:$H,$A6,'feuille travail'!$K:$K,H$3)>0,"x","") -> x | I6: =IF(COUNTIFS('feuille travail'!$H:$H,$A6,'feuille travail'!$K:$K,I$3)>0,"x","") -> x | ... S6: =IF(COUNTIFS('feuille travail'!$H:$H,$A6,'feuille travail'!$K:$K,S$3)>0,"x","")
A7: Cuisine du monde : la soupe de caillou | B7: =IF(COUNTIFS('feuille travail'!$H:$H,$A7,'feuille travail'!$K:$K,B$3)>0,"x","") -> x | C7: =IF(COUNTIFS('feuille travail'!$H:$H,$A7,'feuille travail'!$K:$K,C$3)>0,"x","") | D7: =IF(COUNTIFS('feuille travail'!$H:$H,$A7,'feuille travail'!$K:$K,D$3)>0,"x","") | E7: =IF(COUNTIFS('feuille travail'!$H:$H,$A7,'feuille travail'!$K:$K,E$3)>0,"x","") | F7: =IF(COUNTIFS('feuille travail'!$H:$H,$A7,'feuille travail'!$K:$K,F$3)>0,"x","") -> x | G7: =IF(COUNTIFS('feuille travail'!$H:$H,$A7,'feuille travail'!$K:$K,G$3)>0,"x","") | H7: =IF(COUNTIFS('feuille travail'!$H:$H,$A7,'feuille travail'!$K:$K,H$3)>0,"x","") | I7: =IF(COUNTIFS('feuille travail'!$H:$H,$A7,'feuille travail'!$K:$K,I$3)>0,"x","") -> x | ... S7: =IF(COUNTIFS('feuille travail'!$H:$H,$A7,'feuille travail'!$K:$K,S$3)>0,"x","")
A8: Recherche et développement : recyclage des allumettes usagées | B8: =IF(COUNTIFS('feuille travail'!$H:$H,$A8,'feuille travail'!$K:$K,B$3)>0,"x","") -> x | C8: =IF(COUNTIFS('feuille travail'!$H:$H,$A8,'feuille travail'!$K:$K,C$3)>0,"x","") -> x | D8: =IF(COUNTIFS('feuille travail'!$H:$H,$A8,'feuille travail'!$K:$K,D$3)>0,"x","") -> x | E8: =IF(COUNTIFS('feuille travail'!$H:$H,$A8,'feuille travail'!$K:$K,E$3)>0,"x","") -> x | F8: =IF(COUNTIFS('feuille travail'!$H:$H,$A8,'feuille travail'!$K:$K,F$3)>0,"x","") -> x | G8: =IF(COUNTIFS('feuille travail'!$H:$H,$A8,'feuille travail'!$K:$K,G$3)>0,"x","") -> x | H8: =IF(COUNTIFS('feuille travail'!$H:$H,$A8,'feuille travail'!$K:$K,H$3)>0,"x","") -> x | I8: =IF(COUNTIFS('feuille travail'!$H:$H,$A8,'feuille travail'!$K:$K,I$3)>0,"x","") -> x | ... S8: =IF(COUNTIFS('feuille travail'!$H:$H,$A8,'feuille travail'!$K:$K,S$3)>0,"x","") -> x
A9: Exploration de croyances : peut-on encore affirmer que la terre est plate ? | B9: =IF(COUNTIFS('feuille travail'!$H:$H,$A9,'feuille travail'!$K:$K,B$3)>0,"x","") | C9: =IF(COUNTIFS('feuille travail'!$H:$H,$A9,'feuille travail'!$K:$K,C$3)>0,"x","") | D9: =IF(COUNTIFS('feuille travail'!$H:$H,$A9,'feuille travail'!$K:$K,D$3)>0,"x","") | E9: =IF(COUNTIFS('feuille travail'!$H:$H,$A9,'feuille travail'!$K:$K,E$3)>0,"x","") | F9: =IF(COUNTIFS('feuille travail'!$H:$H,$A9,'feuille travail'!$K:$K,F$3)>0,"x","") | G9: =IF(COUNTIFS('feuille travail'!$H:$H,$A9,'feuille travail'!$K:$K,G$3)>0,"x","") | H9: =IF(COUNTIFS('feuille travail'!$H:$H,$A9,'feuille travail'!$K:$K,H$3)>0,"x","") | I9: =IF(COUNTIFS('feuille travail'!$H:$H,$A9,'feuille travail'!$K:$K,I$3)>0,"x","") | ... S9: =IF(COUNTIFS('feuille travail'!$H:$H,$A9,'feuille travail'!$K:$K,S$3)>0,"x","")
A10: Approche photographique des vaisseaux extraterrestres déguisés en nuages lenticulaires. | B10: =IF(COUNTIFS('feuille travail'!$H:$H,$A10,'feuille travail'!$K:$K,B$3)>0,"x","") -> x | C10: =IF(COUNTIFS('feuille travail'!$H:$H,$A10,'feuille travail'!$K:$K,C$3)>0,"x","") | D10: =IF(COUNTIFS('feuille travail'!$H:$H,$A10,'feuille travail'!$K:$K,D$3)>0,"x","") -> x | E10: =IF(COUNTIFS('feuille travail'!$H:$H,$A10,'feuille travail'!$K:$K,E$3)>0,"x","") -> x | F10: =IF(COUNTIFS('feuille travail'!$H:$H,$A10,'feuille travail'!$K:$K,F$3)>0,"x","") | G10: =IF(COUNTIFS('feuille travail'!$H:$H,$A10,'feuille travail'!$K:$K,G$3)>0,"x","") -> x | H10: =IF(COUNTIFS('feuille travail'!$H:$H,$A10,'feuille travail'!$K:$K,H$3)>0,"x","") | I10: =IF(COUNTIFS('feuille travail'!$H:$H,$A10,'feuille travail'!$K:$K,I$3)>0,"x","") | ... S10: =IF(COUNTIFS('feuille travail'!$H:$H,$A10,'feuille travail'!$K:$K,S$3)>0,"x","")
